BEGIN:VCALENDAR
VERSION:2.0
PRODID:-//ChamberMaster//Event Calendar 2.0//EN
METHOD:PUBLISH
X-PUBLISHED-TTL:P3D
REFRESH-INTERVAL:P3D
CALSCALE:GREGORIAN
BEGIN:VEVENT
DTSTART:20150211T180000Z
DTEND:20150220T180000Z
X-MICROSOFT-CDO-ALLDAYEVENT:FALSE
SUMMARY:Advertising Survey for Research Project for Student at the University of Alabama
DESCRIPTION:Attention business professionals:  The following short advertising survey is part of a research project for a student at the University of Alabama:\n\n\n\nhttps://universityofalabama.az1.qualtrics.com/SE/?SID=SV_eEbiOJ0qP10szJj.\n\n\n\nThank you in advance for choosing to participate in our survey. The purpose of this survey is to gather information about advertising preferences in the Birmingham area for educational purposes. We value your opinion and feedback.\n\n\n\nYour participation in this survey is completely voluntary. Your survey responses will be strictly confidential.\n\n\n\nThe survey will take approximately five minutes and will be completely anonymous.
X-ALT-DESC;FMTTYPE=text/html:<br />\nAttention business professionals:&nbsp\; The following short advertising survey is part of a research project for a student at the University of Alabama:<br />\n<br />\n<a href="https://universityofalabama.az1.qualtrics.com/SE/?SID=SV_eEbiOJ0qP10szJj">https://universityofalabama.az1.qualtrics.com/SE/?SID=SV_eEbiOJ0qP10szJj</a>.<br />\n<br />\nThank you in advance for choosing to participate in our survey. The purpose of this survey is to gather information about advertising preferences in the Birmingham area for educational purposes. We value your opinion and feedback.<br />\n<br />\nYour participation in this survey is completely voluntary. Your survey responses will be strictly confidential.<br />\n<br />\nThe survey will take approximately five minutes and will be completely anonymous.
LOCATION:
UID:e.145.7335
SEQUENCE:3
DTSTAMP:20260423T050717Z
URL:https://business.shelbychamber.org/events/details/advertising-survey-for-research-project-for-student-at-the-university-of-alabama-02-11-2015-7335
END:VEVENT

END:VCALENDAR
