BEGIN:VCALENDAR
VERSION:2.0
PRODID:-//ChamberMaster//Event Calendar 2.0//EN
METHOD:PUBLISH
X-PUBLISHED-TTL:P3D
REFRESH-INTERVAL:P3D
CALSCALE:GREGORIAN
BEGIN:VEVENT
DTSTART:20120821T133000Z
DTEND:20120821T193000Z
X-MICROSOFT-CDO-ALLDAYEVENT:FALSE
SUMMARY:AED / CPR / First Aid Training from Beck First Aid
DESCRIPTION:Can you properly and safely respond to someone who suffered an injury? Does the thought of using one of those AED units in the mall intimidate you? If someone passes out without warning\, do you know what to do? Beck First Aid & Safety wants to make sure you're prepared in the event of an emergency.\n\n\n\nWe offer hands-on training for AEDs\, adult CPR certification\, and basic first aid techniques.\n\n\n\nSpace is limited\, so call today to schedule\, and bring a friend or two! We can accompany a group up to 12 people. 205.982.0887\n\n\n\n$59.95 - one person\n\n$69.95 - one person\, plus a 25-person first aid kit\n\n\n\nWe accept all major credit cards.
X-ALT-DESC;FMTTYPE=text/html:Can you properly and safely respond to someone who suffered an injury? Does the thought of using one of those AED units in the mall intimidate you? If someone passes out without warning\, do you know what to do? Beck First Aid &amp\; Safety wants to make sure you&#39\;re prepared in the event of an emergency.<br />\n<br />\nWe offer hands-on training for AEDs\, adult CPR certification\, and basic first aid techniques.<br />\n<br />\nSpace is limited\, so call today to schedule\, and bring a friend or two! We can accompany a group up to 12 people. 205.982.0887<br />\n<br />\n$59.95 - one person<br />\n$69.95 - one person\, plus a 25-person first aid kit<br />\n<br />\nWe accept all major credit cards.
LOCATION:Beck First Aid & Safety 2531 E Meadowview Lane Pelham\, AL 35124
UID:e.145.4286
SEQUENCE:3
DTSTAMP:20260425T024506Z
URL:https://business.shelbychamber.org/events/details/aed-cpr-first-aid-training-from-beck-first-aid-08-21-2012-4286
END:VEVENT

END:VCALENDAR
