BEGIN:VCALENDAR
VERSION:2.0
PRODID:-//ChamberMaster//Event Calendar 2.0//EN
METHOD:PUBLISH
X-PUBLISHED-TTL:P3D
REFRESH-INTERVAL:P3D
CALSCALE:GREGORIAN
BEGIN:VEVENT
DTSTART:20130808T190000Z
DTEND:20130808T200000Z
X-MICROSOFT-CDO-ALLDAYEVENT:FALSE
SUMMARY:Affordable Care Act 101 weekly webinar series
DESCRIPTION:The Small Business Administration (SBA) and Small Business Majority have launched the Affordable Care Act 101 weekly webinar series. Each week\, SBA representatives will walk through the key pieces of the law so that small business owners can make informed decisions about providing health insurance for their employees.\n\nThe one-hour webinars will take place every Thursday at 2:00 p.m. ET. The registration links for the next three presentations are listed below. This webinar series will focus on both federal and state provisions to help local small business owners understand how the law will affect them. Although not the primary audience for the webinar series\, most of the information will apply to nonprofit organizations too.\n\nTopics being discussed include:\n\n\n	\n		Small business tax credits (available to businesses and tax-exempt non-profits) - who's eligible for them and how to claim them\n	\n		Marketplace updates\n	\n		Shared responsibility\n	\n		Cost containment\n	\n		Tools and resources available for small businesses interested in learning more about the law\n\nTo Register:\n\nThursday\, August 8\, 2:00PM - 3:00PM EDT: Register Now\n\nThursday\, August 15\, 2:00PM - 3:00PM EDT: Register Now
X-ALT-DESC;FMTTYPE=text/html:<span style="color:#504b4c\;"><span style="font-family:arial\,sans-serif\;"><span style="font-size:8.5pt\;">The Small Business Administration (SBA) and Small Business Majority have launched the <strong>Affordable Care Act 101 weekly webinar series</strong>. Each week\, SBA representatives will walk through the key pieces of the law so that small business owners can make informed decisions about providing health insurance for their employees.</span></span></span><br />\n<span style="color:#504b4c\;"><span style="font-family:arial\,sans-serif\;"><span style="font-size:8.5pt\;">The one-hour webinars will take place <strong>every Thursday at 2:00 p.m. ET</strong>. The registration links for the next three presentations are listed below. This webinar series will focus on both federal and state provisions to help local small business owners understand how the law will affect them. Although not the primary audience for the webinar series\, most of the information will apply to nonprofit organizations too.</span></span></span><br />\n<strong><span style="color:#504b4c\;"><span style="font-family:arial\,sans-serif\;"><span style="font-size:8.5pt\;">Topics being discussed include:</span></span></span></strong><br />\n<ul>\n	<li style="color:#504B4C\;line-height:10.8pt\;">\n		<span style="font-family:arial\,sans-serif\;"><span style="font-size:8.5pt\;">Small business tax credits (available to businesses and tax-exempt non-profits) - who&rsquo\;s eligible for them and how to claim them</span></span></li>\n	<li style="color:#504B4C\;line-height:10.8pt\;">\n		<span style="font-family:arial\,sans-serif\;"><span style="font-size:8.5pt\;">Marketplace updates</span></span></li>\n	<li style="color:#504B4C\;line-height:10.8pt\;">\n		<span style="font-family:arial\,sans-serif\;"><span style="font-size:8.5pt\;">Shared responsibility</span></span></li>\n	<li style="color:#504B4C\;line-height:10.8pt\;">\n		<span style="font-family:arial\,sans-serif\;"><span style="font-size:8.5pt\;">Cost containment</span></span></li>\n	<li style="color:#504B4C\;line-height:10.8pt\;">\n		<span style="font-family:arial\,sans-serif\;"><span style="font-size:8.5pt\;">Tools and resources available for small businesses interested in learning more about the law</span></span></li>\n</ul>\n<strong><span style="color:#504b4c\;"><span style="font-family:arial\,sans-serif\;"><span style="font-size:8.5pt\;">To Register:</span></span></span></strong><br />\n<span style="color:#504b4c\;"><span style="font-family:arial\,sans-serif\;"><span style="font-size:8.5pt\;">Thursday\, August 8\, 2:00PM - 3:00PM EDT: <a href="http://onecpd.us5.list-manage.com/track/click?u=87d7c8afc03ba69ee70d865b9&amp\;id=00026738ac&amp\;e=903e7f292c"><span style="color:blue\;">Register Now</span></a></span><br />\nThursday\, August 15\, 2:00PM - 3:00PM EDT: <a href="http://onecpd.us5.list-manage.com/track/click?u=87d7c8afc03ba69ee70d865b9&amp\;id=c68bb0082e&amp\;e=903e7f292c"><span style="color:blue\;">Register Now</span></a></span></span>
LOCATION:webinar
UID:e.145.4701
SEQUENCE:3
DTSTAMP:20260424T065459Z
URL:https://business.shelbychamber.org/events/details/affordable-care-act-101-weekly-webinar-series-08-08-2013-4701
END:VEVENT

END:VCALENDAR
