BEGIN:VCALENDAR
VERSION:2.0
PRODID:-//ChamberMaster//Event Calendar 2.0//EN
METHOD:PUBLISH
X-PUBLISHED-TTL:P3D
REFRESH-INTERVAL:P3D
CALSCALE:GREGORIAN
BEGIN:VEVENT
DTSTART:20160714T170000Z
DTEND:20160717T170000Z
X-MICROSOFT-CDO-ALLDAYEVENT:FALSE
SUMMARY:Alabama American Legion State Tournament
DESCRIPTION:American Legion Baseball has a long history in Alabama. The league strives to provide a good mix of flexible schedules and good competition. The tournament is partnered with Birmingham-Southern College. Teams will play in Northern Shelby County\, Hoover and Birmingham-Southern College. The championship games will be held at the Hoover Met on Sunday\, July 17.
X-ALT-DESC;FMTTYPE=text/html:American Legion Baseball has a long history in Alabama. The league strives to provide a good mix of flexible schedules and good competition. The tournament is partnered with Birmingham-Southern College. Teams will play in Northern Shelby County\, Hoover and Birmingham-Southern College. The championship games will be held at the Hoover Met on Sunday\, July 17.
LOCATION:North Shelby County communities of Alabaster\, Pelham and Helena
UID:e.145.9455
SEQUENCE:3
DTSTAMP:20260422T013717Z
URL:https://business.shelbychamber.org/events/details/alabama-american-legion-state-tournament-07-14-2016-9455
END:VEVENT

END:VCALENDAR
