BEGIN:VCALENDAR
VERSION:2.0
PRODID:-//ChamberMaster//Event Calendar 2.0//EN
METHOD:PUBLISH
X-PUBLISHED-TTL:P3D
REFRESH-INTERVAL:P3D
CALSCALE:GREGORIAN
BEGIN:VEVENT
DTSTART:20160407T170000Z
DTEND:20160410T230000Z
X-MICROSOFT-CDO-ALLDAYEVENT:FALSE
SUMMARY:Alabama Auto Show
DESCRIPTION:Alabama Auto Show: 500 vehicles\, 18 Ride & Drive Opportunities\n\nGame Zone\, Climbing Wall and more!\n\nNew vehicles representing 27 different brands will fill the BJCC April 7 ? 10 for the Alabama Auto Show\n\nThe 2016 Alabama Auto Show\, a four day event April 7th through 10th\, will feature vehicles from 27 different brands. In addition to the premiere of the latest the automotive world has to offer\, this year's auto show will also include ride and drive opportunities for attendees\, live media broadcasts from the event\, the Game Zone truck and a climbing wall. Tickets for the Alabama Auto Show at the Birmingham-Jefferson Convention Complex are now on sale and can be purchased online through alabamaautoshow.com. Tickets can also be purchased onsite at the BJCC on the days of the event. Be a part of the social media conversation during the event by using #ALAutoShow.\n\n"This year's Auto Show will have something for everybody\, from vehicles to driving experiences to games and fun\," said Jennifer Whisenant\, producer of the Alabama Auto Show. "Not only will attendees be able to get a first look at the automotive industry's best vehicles\, they will get to test drive some of them too." GM\, Toyota and Ford each will have a registration booth in the lobby of the East Exhibition Hall. After attendees have gone through the Auto Show itself\, they can register to test drive the vehicles of their choice.\n\nOther highlights:\n\n           Ady's Army race car\n\n           Automotive exhibitors\n\n           Game Zone gaming truck\n\n           Climbing Wall from Idlewild Adventures\n\n           Alabama Auto Show merchandise\n\nABOUT THE ALABAMA AUTO SHOW\n\nThe 2016 Alabama Auto Show will take place at the Birmingham-Jefferson Convention Complex April 7-10. Doors open for the event on Thursday\, April 7 at 12 p.m. Tickets for ages 14 and above are $8\, children under 14 are free. Discounts will be given to senior citizens and military personnel (active or retired). The event will showcase 2016 model year domestic and import cars\, light trucks\, SUVs\, and hybrid vehicles of all sizes. Manufacturer?s reps\, product specialists\, and local Birmingham Automobile Dealers Association members will be on hand to assist in product education\, feature comparisons\, safety standards and other consumer points of interest on hundreds of makes and models. For more information\, visit alabamaautoshow.com.
X-ALT-DESC;FMTTYPE=text/html:<strong><span style="color:windowtext"><span style="font-family:calibri\,sans-serif"><span style="font-size:14.0pt">Alabama Auto Show: 500 vehicles\, 18 Ride &amp\; Drive Opportunities</span></span></span></strong><br />\n<strong><span style="color:windowtext"><span style="font-family:calibri\,sans-serif"><span style="font-size:14.0pt">Game Zone\, Climbing Wall and more!</span></span></span></strong><br />\n<em><span style="color:windowtext"><span style="font-family:calibri\,sans-serif"><span style="font-size:\n">New vehicles representing 27 different brands will fill the BJCC April 7 ? 10 for the Alabama Auto Show</span></span></span></em><br />\n<span style="color:windowtext"><span style="font-family:calibri\,sans-serif"><span style="font-size:9.0pt">The 2016 Alabama Auto Show\, a four day event April 7<sup>th</sup> through 10<sup>th</sup>\, will feature vehicles from 27 different brands. In addition to the premiere of the latest the automotive world has to offer\, this year&#39\;s auto show will also include ride and drive opportunities for attendees\, live media broadcasts from the event\, the Game Zone truck and a climbing wall. Tickets for the Alabama Auto Show at the Birmingham-Jefferson Convention Complex are now on sale and can be purchased online through </span></span></span><a href="file:///C:/Users/Jennifer/AppData/Local/Microsoft/Windows/Temporary%20Internet%20Files/Content.Outlook/SKS10H0V/alabamaautoshow.com"><span style="color:windowtext"><span style="font-family:calibri\,sans-serif"><span style="font-size:9.0pt">alabamaautoshow.com</span></span></span></a><span style="color:windowtext"><span style="font-family:calibri\,sans-serif"><span style="font-size:\n">. Tickets can also be purchased onsite at the BJCC on the days of the event. Be a part of the social media conversation during the event by using #ALAutoShow.</span></span></span><br />\n<span style="color:windowtext"><span style="font-family:calibri\,sans-serif"><span style="font-size:9.0pt">&quot\;This year&#39\;s Auto Show will have something for everybody\, from vehicles to driving experiences to games and fun\,&quot\; said Jennifer Whisenant\, producer of the Alabama Auto Show. &quot\;Not only will attendees be able to get a first look at the automotive industry&#39\;s best vehicles\, they will get to test drive some of them too.&quot\; </span></span></span><span style="color:windowtext"><span style="font-family:calibri\,sans-serif"><span style="font-size:9.0pt">GM\, Toyota and Ford each will have a registration booth in the lobby of the East Exhibition Hall. After attendees have gone through the Auto Show itself\, they can register to test drive the vehicles of their choice.</span></span></span><br />\n<strong><span style="color:windowtext"><span style="font-family:calibri\,sans-serif"><span style="font-size:9.0pt">Other highlights:</span></span></span></strong><br />\n<span style="color:windowtext"><span style="font-family:symbol"><span style="font-size:9.0pt">&middot\;&nbsp\;&nbsp\;&nbsp\;&nbsp\;&nbsp\;&nbsp\;&nbsp\;&nbsp\;&nbsp\; </span></span></span><span style="color:windowtext"><span style="font-family:calibri\,sans-serif"><span style="font-size:9.0pt">Ady&#39\;s Army race car</span></span></span><br />\n<span style="color:windowtext"><span style="font-family:symbol"><span style="font-size:9.0pt">&middot\;&nbsp\;&nbsp\;&nbsp\;&nbsp\;&nbsp\;&nbsp\;&nbsp\;&nbsp\;&nbsp\; </span></span></span><span style="color:windowtext"><span style="font-family:calibri\,sans-serif"><span style="font-size:9.0pt">Automotive exhibitors</span></span></span><br />\n<span style="color:windowtext"><span style="font-family:symbol"><span style="font-size:9.0pt">&middot\;&nbsp\;&nbsp\;&nbsp\;&nbsp\;&nbsp\;&nbsp\;&nbsp\;&nbsp\;&nbsp\; </span></span></span><span style="color:windowtext"><span style="font-family:calibri\,sans-serif"><span style="font-size:9.0pt">Game Zone gaming truck</span></span></span><br />\n<span style="color:windowtext"><span style="font-family:symbol"><span style="font-size:9.0pt">&middot\;&nbsp\;&nbsp\;&nbsp\;&nbsp\;&nbsp\;&nbsp\;&nbsp\;&nbsp\;&nbsp\; </span></span></span><span style="color:windowtext"><span style="font-family:calibri\,sans-serif"><span style="font-size:9.0pt">Climbing Wall from Idlewild Adventures</span></span></span><br />\n<span style="color:windowtext"><span style="font-family:symbol"><span style="font-size:9.0pt">&middot\;&nbsp\;&nbsp\;&nbsp\;&nbsp\;&nbsp\;&nbsp\;&nbsp\;&nbsp\;&nbsp\; </span></span></span><span style="color:windowtext"><span style="font-family:calibri\,sans-serif"><span style="font-size:9.0pt">Alabama Auto Show merchandise</span></span></span><br />\n<strong><span style="color:windowtext"><span style="font-family:calibri\,sans-serif"><span style="font-size:9.0pt">ABOUT THE ALABAMA AUTO SHOW</span></span></span></strong><br />\n<span style="color:windowtext"><span style="font-family:calibri\,sans-serif"><span style="font-size:9.0pt">The 2016 Alabama Auto Show will take place at the Birmingham-Jefferson Convention Complex April 7-10. Doors open for the event on Thursday\, April 7 at 12 p.m. Tickets for ages 14 and above are $8\, children under 14 are free. Discounts will be given to senior citizens and military personnel (active or retired). The event will showcase 2016 model year domestic and import cars\, light trucks\, SUVs\, and hybrid vehicles of all sizes. Manufacturer?s reps\, product specialists\, and local </span></span></span><a href="http://carsbirmingham.com/"><span style="color:windowtext"><span style="font-family:calibri\,sans-serif"><span style="font-size:9.0pt">Birmingham Automobile Dealers Association</span></span></span></a><span style="color:windowtext"><span style="font-family:calibri\,sans-serif"><span style="font-size:9.0pt"> members will be on hand to assist in product education\, feature comparisons\, safety standards and other consumer points of interest on hundreds of makes and models. For more information\, visit </span></span></span><a href="http://www.alabamaautoshow.com/"><span style="color:windowtext"><span style="font-family:calibri\,sans-serif"><span style="font-size:9.0pt">alabamaautoshow.com</span></span></span></a><span style="color:windowtext"><span style="font-family:calibri\,sans-serif"><span style="font-size:9.0pt">.</span></span></span>
LOCATION:Birmingham-Jefferson Convention Complex
UID:e.145.8393
SEQUENCE:3
DTSTAMP:20260422T074816Z
URL:https://business.shelbychamber.org/events/details/alabama-auto-show-04-07-2016-8393
END:VEVENT

END:VCALENDAR
