BEGIN:VCALENDAR
VERSION:2.0
PRODID:-//ChamberMaster//Event Calendar 2.0//EN
METHOD:PUBLISH
X-PUBLISHED-TTL:P3D
REFRESH-INTERVAL:P3D
CALSCALE:GREGORIAN
BEGIN:VEVENT
DTSTART;VALUE=DATE:20130822
DTEND;VALUE=DATE:20130824
TRANSP:TRANSPARENT
X-MICROSOFT-CDO-ALLDAYEVENT:TRUE
SUMMARY:Alabama E3 Sustainability Conference
DESCRIPTION:E3: Economy\, Energy\, and Environment\n\n	The Alabama E3 initiative is to reduce wastes\, lower costs\, and increase profitability for Alabama's industries. Hear from experts and learn how to apply proven methods to increase your company's bottom line. Network and gain connections for sustainability.\n\n	For more information about E3 and to register for this conference\, please go online to www.alabamae3.org
X-ALT-DESC;FMTTYPE=text/html:<p>\n	E3: Economy\, Energy\, and Environment<br />\n	The Alabama E3 initiative is to reduce wastes\, lower costs\, and increase profitability for Alabama&#39\;s industries. Hear from experts and learn how to apply proven methods to increase your company&#39\;s bottom line. Network and gain connections for sustainability.</p>\n<p>\n	For more information about E3 and to register for this conference\, please go online to www.alabamae3.org &nbsp\;</p>\n
LOCATION:Renaissance Montgomery Hotel and Spa/Montgomery\, AL
UID:e.145.4709
SEQUENCE:3
DTSTAMP:20260424T065305Z
URL:https://business.shelbychamber.org/events/details/alabama-e3-sustainability-conference-08-22-2013-4709
END:VEVENT

END:VCALENDAR
