BEGIN:VCALENDAR
VERSION:2.0
PRODID:-//ChamberMaster//Event Calendar 2.0//EN
METHOD:PUBLISH
X-PUBLISHED-TTL:P3D
REFRESH-INTERVAL:P3D
CALSCALE:GREGORIAN
BEGIN:VEVENT
DTSTART:20130322T213000Z
DTEND:20130326T030000Z
X-MICROSOFT-CDO-ALLDAYEVENT:FALSE
SUMMARY:Alabama Fraternal Order of Police 64th State Conference
DESCRIPTION:The Shelby County Lodge of the Fraternal Order of Police is proud to announce that we will host the 2013 Annual State Conference at the Pelham Civic Complex\,  Pelham\, AL.\n\n	The dates are March 22nd - 25th\, 2013.\n\n	\n\n	They are seeking potential venders or sponsors that would be interested in having their products or service presented during conference breaks and prior to business meetings. They are expecting crowds ranging from 200-300.\n\n	 \n\n	If any chamber members are interested\, contact Sgt. Clay Hammac at 205-670-6225 or email Sgt. Clay Hammac.\n\n	 \n\n	Attached is a conference packet that has been sent out throughout the state to our Law Enforcement delegates and attendees.\n\n	 \n\n	Should you have any questions prior to contacting me\, please feel free to visit our website at www.shelbyfop.com.\n\n	We will host the conference at the Pelham Civic Center\, which will include a gourmet buffet on the evening of the  23rd and a sit-down plated dinner on the night of the 24th.\n\n	We have made arrangements with the Marriott's Fairfield Hotel in Pelham to reserve rooms as our host hotel\, to include a hospitality suite. The neighboring Hampton Inn Hotel has agreed to serve as an overflow location. The Holiday Inn Express has also agreed to serve as an additional overflow hotel.\n\n	For reservations:\n\n	\n		Fairfield's phone number is 205-987-9879  (host)\n	\n		Hampton Inn's phone number is 205-313-9600  (overflow)\n	\n		Holiday Inn Express' phone number 205 987-8888  (overflow)\n\n\n	When guests make their reservations\, we ask that the guest name and Lodge number be provided.
X-ALT-DESC;FMTTYPE=text/html:<p>\n	The Shelby County Lodge of the Fraternal Order of Police is proud to announce that we will host the 2013 Annual State Conference at the Pelham Civic Complex\,&nbsp\; Pelham\, AL.</p>\n<p>\n	The&nbsp\;dates are March 22nd - 25th\, 2013.<br />\n	<br />\n	<strong>They are seeking potential venders or sponsors that would be interested in having their products or service presented during conference breaks and prior to business meetings. They are expecting crowds ranging from 200-300.</strong><br />\n	&nbsp\;<br />\n	If any chamber members are interested\, contact Sgt. Clay Hammac at 205-670-6225 or email <a href="mailto:CHAMMAC@shelbyso.com?subject=Alabama%20Fraternal%20Order%20of%20Police%2064th%20State%20Conference%20Interest">Sgt. Clay Hammac</a>.<br />\n	&nbsp\;<br />\n	Attached is a conference packet that has been sent out throughout the state to our Law Enforcement delegates and attendees.<br />\n	&nbsp\;<br />\n	Should you have any questions prior to contacting me\, please feel free to visit our website at <a href="http://www.shelbyfop.com">www.shelbyfop.com.</a></p>\n<p>\n	We will host the conference at the <a href="http://www.pelhamciviccomplex.com/" target="_blank">Pelham Civic Center</a>\, which will include a gourmet buffet on the evening of the&#65279\; 23rd and a sit-down plated dinner on the night of the 24th.</p>\n<p>\n	We have made arrangements with the <a href="http://www.marriott.com/hotels/travel/bhmfp-fairfield-inn-and-suites-birmingham-pelham-i-65/" target="_blank">Marriott&#39\;s Fairfield Hotel</a> in Pelham to reserve rooms as our host hotel\, to include a hospitality suite. The neighboring <a href="http://hamptoninn.hilton.com/en/hp/hotels/index.jhtml?ctyhocn=BHMCVHX" target="_blank">Hampton Inn Hotel</a> has agreed to serve as an overflow location. The <a href="http://www.hiexpress.com/hotels/us/en/pelham/pelex/hoteldetail?cm_mmc=mdpr-_-googlemaps-_-ex-_-pelex" target="_blank">Holiday Inn Express</a> has also agreed to serve as an additional overflow hotel.</p>\n<p>\n	For reservations:</p>\n<ul>\n	<li>\n		Fairfield&#39\;s phone number is 205-987-9879&#65279\; (host)</li>\n	<li>\n		Hampton Inn&#39\;s phone number is <span class="hotelAddress">205-313-9600</span>&#65279\; (overflow)</li>\n	<li>\n		Holiday Inn Express&#39\; phone number <span class="pp-headline-item pp-headline-phone"><span class="telephone" dir="ltr">205 </span></span><span class="pp-headline-item pp-headline-phone"><span class="telephone" dir="ltr">987-8888</span></span>&#65279\; (overflow)</li>\n</ul>\n<p>\n	When guests make their reservations\, we ask that the guest name and Lodge number be provided.</p>\n
LOCATION:Pelham Civic Complex 500 Amphitheater Road\, Pelham AL 35124 (205) 620-6448
UID:e.145.4442
SEQUENCE:3
DTSTAMP:20260424T172128Z
URL:https://business.shelbychamber.org/events/details/alabama-fraternal-order-of-police-64th-state-conference-03-22-2013-4442
END:VEVENT

END:VCALENDAR
