BEGIN:VCALENDAR
VERSION:2.0
PRODID:-//ChamberMaster//Event Calendar 2.0//EN
METHOD:PUBLISH
X-PUBLISHED-TTL:P3D
REFRESH-INTERVAL:P3D
CALSCALE:GREGORIAN
BEGIN:VEVENT
DTSTART;VALUE=DATE:20120202
DTEND;VALUE=DATE:20120203
TRANSP:TRANSPARENT
X-MICROSOFT-CDO-ALLDAYEVENT:TRUE
SUMMARY:Alabama Gives Day
DESCRIPTION:Join the Alabama Youth Ballet in Alabama Gives Day\, a 24-hour fundraising event sponsored by the Alabama Association of Nonprofits and Razoo.  Please check out our website at http://www.razoo.com/story/Alabamayouthballetcompany?referral_code=share  to help by sharing the event with others or by a donation.  You can join our team named TEAM BALLET to show your support\, too!
X-ALT-DESC;FMTTYPE=text/html:Join the Alabama Youth Ballet in Alabama Gives Day\, a 24-hour fundraising event sponsored by the Alabama Association of Nonprofits and Razoo.&nbsp\; Please check out our website at <a href="http://www.razoo.com/story/Alabamayouthballetcompany?referral_code=share">http://www.razoo.com/story/Alabamayouthballetcompany?referral_code=share</a>&nbsp\; to help by sharing the event with others or by a donation.&nbsp\; You can join our team named TEAM BALLET to show your support\, too!
LOCATION:Grebel Center for Dance
UID:e.145.3912
SEQUENCE:3
DTSTAMP:20260425T115756Z
URL:https://business.shelbychamber.org/events/details/alabama-gives-day-02-02-2012-3912
END:VEVENT

END:VCALENDAR
