BEGIN:VCALENDAR
VERSION:2.0
PRODID:-//ChamberMaster//Event Calendar 2.0//EN
METHOD:PUBLISH
X-PUBLISHED-TTL:P3D
REFRESH-INTERVAL:P3D
CALSCALE:GREGORIAN
BEGIN:VEVENT
DTSTART:20161018T230000Z
DTEND:20161019T010000Z
X-MICROSOFT-CDO-ALLDAYEVENT:FALSE
SUMMARY:Alabama Lifespan Respite Resource Network
DESCRIPTION:Please join us as we discuss the social\, emotional\, and physical well-being of the caregiver\, and offer tips and techniques to help improve overall health and daily living. This class will also include training on assistive technology for the aging caregiver and we will demonstrate different types of assistive technology to help make life a little easier. The first 15 families to RSVP will receive a $50 respite voucher.
X-ALT-DESC;FMTTYPE=text/html:Please join us as we discuss the social\, emotional\, and physical well-being of the caregiver\, and offer tips and techniques to help improve overall health and daily living. This class will also include training on assistive technology for the aging caregiver and we will demonstrate different types of assistive technology to help make life a little easier. The first 15 families to RSVP will receive a $50 respite voucher.
LOCATION:The Arc of Shelby County 203 Amphitheater Rd. Pelham\, AL 35124
UID:e.145.9789
SEQUENCE:3
DTSTAMP:20260421T182748Z
URL:https://business.shelbychamber.org/events/details/alabama-lifespan-respite-resource-network-9789
END:VEVENT

END:VCALENDAR
