BEGIN:VCALENDAR
VERSION:2.0
PRODID:-//ChamberMaster//Event Calendar 2.0//EN
METHOD:PUBLISH
X-PUBLISHED-TTL:P3D
REFRESH-INTERVAL:P3D
CALSCALE:GREGORIAN
BEGIN:VEVENT
DTSTART:20141101T050000Z
DTEND:20141219T060000Z
X-MICROSOFT-CDO-ALLDAYEVENT:FALSE
SUMMARY:Alabama Manufacturer of the Year Awards: Open for NOMINATIONS
DESCRIPTION:Alabama Technology Network (ATN) and the Business Council of Alabama (BCA) are accepting nominations for the Alabama Manufacturer of the Year Awards. This annual celebration recognize the state's top manufacturers for their accomplishments. By applying for the award\, manufacturers convey their story of financial growth\, manufacturing leadership\, market leadership\, leadership development\, and workforce enhancement. Awards are presented in three categories based on employee size and revenues.\n\nYou too can be a part of this annual celebration of manufacturing excellence. Apply for the prestigious award to:\n\n\n	Share your story\n	Recognize the hard work and dedication of your employees\n	Promote your significant accomplishments\n	Highlight corporate citizenship\n	Join the ranks of other notable manufacturers\n	Receive well-deserved news coverage\n	Help increase public awareness about the strength and economic significance of Alabama's manufacturing community\n\n\nThere are no fees associated with the awards. We simply want to recogonize your company for your hard work and accomplishments. You may nominate your company or any manufacturer deserving of this prestigious award. Nomination application deadline is December 19\, 2014.\n\n\n\nFor more information\, click here.
X-ALT-DESC;FMTTYPE=text/html:<p style="margin: 0px 0px 20px\; padding: 0px\; color: rgb(51\, 51\, 51)\; font-family: Arial\; line-height: 20px\;"><span style="margin: 0px\; padding: 0px\; font-size: small\;">Alabama Technology Network (ATN) and the Business Council of Alabama (BCA) are accepting nominations for the Alabama Manufacturer of the Year Awards. This annual celebration recognize the state&#39\;s top manufacturers for their accomplishments. By applying for the award\, manufacturers convey their story of financial growth\, manufacturing leadership\, market leadership\, leadership development\, and workforce enhancement. Awards are presented in three categories based on employee size and revenues.</span></p>\n\n<p style="margin: 0px 0px 20px\; padding: 0px\; color: rgb(51\, 51\, 51)\; font-family: Arial\; line-height: 20px\;"><span style="margin: 0px\; padding: 0px\; font-size: small\;">You too can be a part of this annual celebration of manufacturing excellence. Apply for the prestigious award to:</span></p>\n\n<ul style="margin: 10px 0px 20px 20px\; padding-right: 0px\; padding-left: 0px\; list-style-position: inside\; color: rgb(51\, 51\, 51)\; font-family: Arial\; line-height: 20px\;">\n	<li style="margin: 0px\; padding: 0px\;"><span style="margin: 0px\; padding: 0px\; font-size: small\;">Share your story</span></li>\n	<li style="margin: 0px\; padding: 0px\;"><span style="margin: 0px\; padding: 0px\; font-size: small\;">Recognize the hard work and dedication of your employees</span></li>\n	<li style="margin: 0px\; padding: 0px\;"><span style="margin: 0px\; padding: 0px\; font-size: small\;">Promote your significant accomplishments</span></li>\n	<li style="margin: 0px\; padding: 0px\;"><span style="margin: 0px\; padding: 0px\; font-size: small\;">Highlight corporate citizenship</span></li>\n	<li style="margin: 0px\; padding: 0px\;"><span style="margin: 0px\; padding: 0px\; font-size: small\;">Join the ranks of other notable manufacturers</span></li>\n	<li style="margin: 0px\; padding: 0px\;"><span style="margin: 0px\; padding: 0px\; font-size: small\;">Receive well-deserved news coverage</span></li>\n	<li style="margin: 0px\; padding: 0px\;"><span style="margin: 0px\; padding: 0px\; font-size: small\;">Help increase public awareness about the strength and economic significance of Alabama&#39\;s manufacturing community</span></li>\n</ul>\n\n<p style="margin: 0px 0px 20px\; padding: 0px\; color: rgb(51\, 51\, 51)\; font-family: Arial\; line-height: 20px\;"><span style="margin: 0px\; padding: 0px\; font-size: small\;">There are no fees associated with the awards. We simply want to recogonize your company for your hard work and accomplishments. You may nominate your company or any manufacturer deserving of this prestigious award. Nomination application deadline is December 19\, 2014.<br />\n<br />\nFor more information\, click&nbsp\;<a href="http://www.alabamamoty.org/" style="margin: 0px\; padding: 0px\; color: rgb(8\, 74\, 150)\;" target="_blank">here</a>.</span></p>\n
LOCATION:
UID:e.145.6500
SEQUENCE:3
DTSTAMP:20260423T075859Z
URL:https://business.shelbychamber.org/events/details/alabama-manufacturer-of-the-year-awards-open-for-nominations-11-01-2014-6500
END:VEVENT

END:VCALENDAR
