BEGIN:VCALENDAR
VERSION:2.0
PRODID:-//ChamberMaster//Event Calendar 2.0//EN
METHOD:PUBLISH
X-PUBLISHED-TTL:P3D
REFRESH-INTERVAL:P3D
CALSCALE:GREGORIAN
BEGIN:VEVENT
DTSTART:20160429T153000Z
DTEND:20160429T190000Z
X-MICROSOFT-CDO-ALLDAYEVENT:FALSE
SUMMARY:Alabama Municipal Community Forum
DESCRIPTION:Please join us April 29th at Jefferson State Community College-Shelby Campus for a no-cost forum to improve education in Alabama.\n\n\n\nThe goal of the program is for educators\, government officials and industry leaders to meet and tie industry needs more closely to educational programming.\n\n\n\nThe program includes a nice lunch and lots of networking\; registration ends April 22 @ http://alabamaacn.org/alabama-municipal-community-forums-central/.\n\n\n\nNo cost\, but registration is required.
X-ALT-DESC;FMTTYPE=text/html:Please join us April 29th at Jefferson State Community College-Shelby Campus for a no-cost forum to improve education in Alabama.<br />\n<br />\nThe goal of the program is for educators\, government officials and industry leaders to meet and tie industry needs more closely to educational programming.<br />\n<br />\nThe program includes a nice lunch and lots of networking\; registration ends April 22 @ <a href="http://alabamaacn.org/alabama-municipal-community-forums-central/">http://alabamaacn.org/alabama-municipal-community-forums-central/</a>.<br />\n<br />\nNo cost\, but registration is required.
LOCATION:Jefferson State Community College - Shelby Campus 4600 Valleydale Road Birmingham\, AL 35242
UID:e.145.9482
SEQUENCE:3
DTSTAMP:20260422T074958Z
URL:https://business.shelbychamber.org/events/details/alabama-municipal-community-forum-04-29-2016-9482
END:VEVENT

END:VCALENDAR
