BEGIN:VCALENDAR
VERSION:2.0
PRODID:-//ChamberMaster//Event Calendar 2.0//EN
METHOD:PUBLISH
X-PUBLISHED-TTL:P3D
REFRESH-INTERVAL:P3D
CALSCALE:GREGORIAN
BEGIN:VEVENT
DTSTART:20160520T160000Z
DTEND:20160521T210000Z
X-MICROSOFT-CDO-ALLDAYEVENT:FALSE
SUMMARY:Alabama Regional Landowner Conference
DESCRIPTION:Since 1941\, the American Tree Farm Program (ATFS) and its state programs have been educating forest landowners about the benefits of management and recognizing them for their commitment to sustainable forestry.\n\n\n\nThe Alabama Tree Farm Program will be celebrating the 75th Anniversary of ATFS this year\, and we would like for you to join us. The Alabama Regional Landowner Conference will be held May 20-21\, 2016\, at the beautiful Alabama 4H Center in Columbiana\, Alabama.\n\n\n\nThis two day conference will feature a field tour on nearby YellowLeaf Farm\, a banquet to honor the 75th Anniversary of ATFS\, as well as great keynote speakers\, panel discussions\, and breakout sessions. This event will also include a Saturday morning program for children\, so make plans for them to attend as well.\n\n\n\nPlease follow this link below for an agenda\, follow this link for registration information and the 4H Center Hotel contact information. Feel free to contact Leigh Peters (lpeters@alaforestry.org) or Liz Chambers (lchambers@alaforestry.org) for more information or or with any questions you might have!
X-ALT-DESC;FMTTYPE=text/html:<br />\nSince 1941\, the American Tree Farm Program (ATFS) and its state programs have been educating forest landowners about the benefits of management and recognizing them for their commitment to sustainable forestry.<br />\n<br />\nThe Alabama Tree Farm Program will be celebrating the 75th Anniversary of ATFS this year\, and we would like for you to join us. The Alabama Regional Landowner Conference will be held May 20-21\, 2016\, at the beautiful Alabama 4H Center in Columbiana\, Alabama.<br />\n<br />\nThis two day conference will feature a field tour on nearby YellowLeaf Farm\, a banquet to honor the 75th Anniversary of ATFS\, as well as great keynote speakers\, panel discussions\, and breakout sessions. This event will also include a Saturday morning program for children\, so make plans for them to attend as well.<br />\n<br />\nPlease follow this link below for an <strong><a href="https://chambermaster.blob.core.windows.net/userfiles/UserFiles/chambers/145/File/Member_Events_Info/ALABAMAREGIONALLANDOWNERCONFERENCE-agenda.pdf">agenda</a></strong>\, follow this link for <strong><a href="https://chambermaster.blob.core.windows.net/userfiles/UserFiles/chambers/145/File/Member_Events_Info/Landowner_Conference_Registr.pdf">registration information and the 4H Center Hotel contact information</a></strong>. Feel free to contact Leigh Peters (lpeters@alaforestry.org) or Liz Chambers (lchambers@alaforestry.org) for more information or or with any questions you might have!
LOCATION:4H Center 892 4-H Road Columbiana\, AL 35051
UID:e.145.9527
SEQUENCE:3
DTSTAMP:20260422T045210Z
URL:https://business.shelbychamber.org/events/details/alabama-regional-landowner-conference-05-20-2016-9527
END:VEVENT

END:VCALENDAR
