BEGIN:VCALENDAR
VERSION:2.0
PRODID:-//ChamberMaster//Event Calendar 2.0//EN
METHOD:PUBLISH
X-PUBLISHED-TTL:P3D
REFRESH-INTERVAL:P3D
CALSCALE:GREGORIAN
BEGIN:VEVENT
DTSTART:20111006T130000Z
DTEND:20111007T030000Z
X-MICROSOFT-CDO-ALLDAYEVENT:FALSE
SUMMARY:Alabama's New Immigration Law and How it Impacts Employers
DESCRIPTION:From mandatory E-Verify registration to penalties that could shut down your business and other actions that directly affect the way you hire employees\, Alabama's immigration law is about much more than immigration.\n\n\n\nJoin Jenna Bedsole and Wes Redmond of the law firm Baker\, Donelson\, Bearman\, Caldwell & Berkowitz and Ken Howell of BMSS for breakfast as they discuss E-Verify\, the current status of the immigration bill and how it will affect your business.\n\n\n\nThursday\, October 6\n\n8:00 - 10:00 am\n\nFREE\n\nIncludes breakfast and CPE credit available.\n\n\n\nRegistration required. RSVP to marketing@bmss.com or 205-982-5574.
X-ALT-DESC;FMTTYPE=text/html:From mandatory E-Verify registration to penalties that could shut down your business and other actions that directly affect the way you hire employees\, Alabama&#39\;s immigration law is about much more than immigration.<br />\n<br />\nJoin Jenna Bedsole and Wes Redmond of the law firm Baker\, Donelson\, Bearman\, Caldwell &amp\; Berkowitz and Ken Howell of BMSS for breakfast as they discuss E-Verify\, the current status of the immigration bill and how it will affect your business.<br />\n<br />\nThursday\, October 6<br />\n8:00 - 10:00 am<br />\nFREE<br />\nIncludes breakfast and CPE credit available.<br />\n<br />\nRegistration required. RSVP to marketing@bmss.com or 205-982-5574.<br />\n<br />\n
LOCATION:Barfield\, Murphy\, Shank & Smith\, 1121 Riverchase Office Road
UID:e.145.3524
SEQUENCE:3
DTSTAMP:20260425T183407Z
URL:https://business.shelbychamber.org/events/details/alabama-s-new-immigration-law-and-how-it-impacts-employers-10-06-2011-3524
END:VEVENT

END:VCALENDAR
