BEGIN:VCALENDAR
VERSION:2.0
PRODID:-//ChamberMaster//Event Calendar 2.0//EN
METHOD:PUBLISH
X-PUBLISHED-TTL:P3D
REFRESH-INTERVAL:P3D
CALSCALE:GREGORIAN
BEGIN:VEVENT
DTSTART;VALUE=DATE:20120831
DTEND;VALUE=DATE:20120910
TRANSP:TRANSPARENT
X-MICROSOFT-CDO-ALLDAYEVENT:TRUE
SUMMARY:Alabama State Fair August 31 - Sept 9 -- Exhibitor Space Discounted!
DESCRIPTION:This is our 5th year holding the Alabama State Fair in Pelham. The Pelham business community has been very good to us over the years\, so this year we are offering Greater Shelby County Chamber of Commerce members a special deal. The Fair is already a cost effective marketing platform for local businesses. We are making even more effective by offering Greater Shelby County Chamber of Commerce members a 15% discount on all exhibitor space\, banner space/sponsorship and ticket promo packages.\n\n\n\nA good bang for your marketing buck just got great! Call Keith at the Alabama State Fair! 901-756-2800
X-ALT-DESC;FMTTYPE=text/html:This is our 5th year holding the Alabama State Fair in Pelham. The Pelham business community has been very good to us over the years\, so this year we are offering Greater Shelby County Chamber of Commerce members a special deal. The Fair is already a cost effective marketing platform for local businesses. We are making even more effective by offering Greater Shelby County Chamber of Commerce members a 15% discount on all exhibitor space\,&nbsp\;banner space/sponsorship and ticket promo packages.<br />\n<br />\nA good bang for your marketing buck just got great! Call Keith at the Alabama State Fair! 901-756-2800<br />\n
LOCATION:Oak Mountain Amphitheater
UID:e.145.4287
SEQUENCE:3
DTSTAMP:20260425T011158Z
URL:https://business.shelbychamber.org/events/details/alabama-state-fair-august-31-sept-9-exhibitor-space-discounted-08-31-2012-4287
END:VEVENT

END:VCALENDAR
