BEGIN:VCALENDAR
VERSION:2.0
PRODID:-//ChamberMaster//Event Calendar 2.0//EN
METHOD:PUBLISH
X-PUBLISHED-TTL:P3D
REFRESH-INTERVAL:P3D
CALSCALE:GREGORIAN
BEGIN:VEVENT
DTSTART:20140405T110000Z
DTEND:20140405T230000Z
X-MICROSOFT-CDO-ALLDAYEVENT:FALSE
SUMMARY:Alabama Tour de Cure
DESCRIPTION:Join us for our annual cycling fundraising event benefiting the American Diabetes Association. We have a ride to accommodate every level cyclist. Check out more details at www.diabetes.org/touralabama
X-ALT-DESC;FMTTYPE=text/html:Join us for our annual cycling fundraising event benefiting the American Diabetes Association. We have a ride to accommodate every level cyclist. Check out more details at www.diabetes.org/touralabama
LOCATION:Student Activity Center\, University of Montevallo 75 College Drive Montevallo\, AL
UID:e.145.5118
SEQUENCE:3
DTSTAMP:20260423T183630Z
URL:https://business.shelbychamber.org/events/details/alabama-tour-de-cure-04-05-2014-5118
END:VEVENT

END:VCALENDAR
