BEGIN:VCALENDAR
VERSION:2.0
PRODID:-//ChamberMaster//Event Calendar 2.0//EN
METHOD:PUBLISH
X-PUBLISHED-TTL:P3D
REFRESH-INTERVAL:P3D
CALSCALE:GREGORIAN
BEGIN:VEVENT
DTSTART:20131214T150000Z
DTEND:20131214T210000Z
X-MICROSOFT-CDO-ALLDAYEVENT:FALSE
SUMMARY:Alabama Wildlife Center's Holiday Craft and Bake Sale
DESCRIPTION:Alabama Wildlife Center's Holiday Craft and Bake Sale Time: 9:00 AM - 3:00 PM Date: Saturday\, December 14\, 2013 Location: Veterans Park on Valleydale Road in Hoover\, in front of Spain Park High School Turn your holiday shopping into charitable support of Alabama Wildlife Center's mission to help injured and orphaned wild birds! Share the spirit of the holidays with your loved ones and friends by purchasing homemade goodies and handmade crafts at our annual Craft & Bake Sale. Items for sale include: - Delicious homemade baked goods - Nature-themed ornaments\, holiday decorations & unique gift items - Homemade jams and jellies - Smoked hams and turkey breasts\, vacuum sealed - Frozen casseroles: mac & cheese\, broccoli rice\, sweet potato\, and sausage grits - Original artwork of wildlife & nature - Bird houses - Jewelry - Handmade quilts and throws - Pet-related items -? And much more! Also enjoy: - Photos with Santa - Free coffee & hot cider - Meet one of our glove-trained Education Birds up close VOLUNTEER OPPORTUNITIES: You can support the event by donating crafts or homemade goodies\, promoting the event in your community\, or by helping out the day of the event.
X-ALT-DESC;FMTTYPE=text/html:Alabama Wildlife Center&#39\;s Holiday Craft and Bake Sale Time: 9:00 AM - 3:00 PM Date: Saturday\, December 14\, 2013 Location: Veterans Park on Valleydale Road in Hoover\, in front of Spain Park High School Turn your holiday shopping into charitable support of Alabama Wildlife Center&#39\;s mission to help injured and orphaned wild birds! Share the spirit of the holidays with your loved ones and friends by purchasing homemade goodies and handmade crafts at our annual Craft &amp\; Bake Sale. Items for sale include: - Delicious homemade baked goods - Nature-themed ornaments\, holiday decorations &amp\; unique gift items - Homemade jams and jellies - Smoked hams and turkey breasts\, vacuum sealed - Frozen casseroles: mac &amp\; cheese\, broccoli rice\, sweet potato\, and sausage grits - Original artwork of wildlife &amp\; nature - Bird houses - Jewelry - Handmade quilts and throws - Pet-related items -? And much more! Also enjoy: - Photos with Santa - Free coffee &amp\; hot cider - Meet one of our glove-trained Education Birds up close VOLUNTEER OPPORTUNITIES: You can support the event by donating crafts or homemade goodies\, promoting the event in your community\, or by helping out the day of the event.
LOCATION:Veterans Park on Valleydale Road in Hoover In front of Spain Park High School
UID:e.145.4961
SEQUENCE:3
DTSTAMP:20260424T003459Z
URL:https://business.shelbychamber.org/events/details/alabama-wildlife-center-s-holiday-craft-and-bake-sale-12-14-2013-4961
END:VEVENT

END:VCALENDAR
