BEGIN:VCALENDAR
VERSION:2.0
PRODID:-//ChamberMaster//Event Calendar 2.0//EN
METHOD:PUBLISH
X-PUBLISHED-TTL:P3D
REFRESH-INTERVAL:P3D
CALSCALE:GREGORIAN
BEGIN:VEVENT
DTSTART:20170212T010000Z
DTEND:20170212T040000Z
X-MICROSOFT-CDO-ALLDAYEVENT:FALSE
SUMMARY:Alabama Wildlife Center's Wild About Chocolate Valentine Gala
DESCRIPTION:Please join us for the 13th Annual Valentine Gala\, benefiting The Alabama Wildlife Center\, which is located at Oak Mountain State Park. The Alabama Wildlife Center is celebrating its 40th Anniversary as Alabama's oldest and largest wildlife rehabilitation center. Join us for delicious deserts\, savory appetizers\, and beverages. There will also be live music by High Tide\, and Live and Silent Auctions. The gala will feature the introduction of The Alabama Wildlife Center's new education ambassadors\, a rehabilitated Eastern Screech Owl\, and a Eurasian Eagle Owl\, the largest owl species in the world.
X-ALT-DESC;FMTTYPE=text/html:Please join us for the 13th Annual Valentine Gala\, benefiting The Alabama Wildlife Center\, which is located at Oak Mountain State Park. The Alabama Wildlife Center is celebrating its 40th Anniversary as Alabama&#39\;s oldest and largest wildlife rehabilitation center. Join us for delicious deserts\, savory appetizers\, and beverages. There will also be live music by High Tide\, and Live and Silent Auctions. The gala will feature the introduction of The Alabama Wildlife Center&#39\;s new education ambassadors\, a rehabilitated Eastern Screech Owl\, and a Eurasian Eagle Owl\, the largest owl species in the world.
LOCATION:The Harbert Center 2019 Fourth Avenue North Birmingham\, Alabama Cocktail attire
UID:e.145.10372
SEQUENCE:3
DTSTAMP:20260421T104133Z
URL:https://business.shelbychamber.org/events/details/alabama-wildlife-center-s-wild-about-chocolate-valentine-gala-10372
END:VEVENT

END:VCALENDAR
