BEGIN:VCALENDAR
VERSION:2.0
PRODID:-//ChamberMaster//Event Calendar 2.0//EN
METHOD:PUBLISH
X-PUBLISHED-TTL:P3D
REFRESH-INTERVAL:P3D
CALSCALE:GREGORIAN
BEGIN:VEVENT
DTSTART:20130226T233000Z
DTEND:20130227T010000Z
X-MICROSOFT-CDO-ALLDAYEVENT:FALSE
SUMMARY:Alabama Women In Business
DESCRIPTION:Join Alabama Women in Business for an evening of Networking and Wine Tasting
X-ALT-DESC;FMTTYPE=text/html:Join Alabama Women in Business for an evening of Networking and Wine Tasting&nbsp\;
LOCATION:Birmingham Botanical Gardens Cafe' 2612 Lane Park Road Birmingham\, AL 35223
UID:e.145.4507
SEQUENCE:3
DTSTAMP:20260424T172052Z
URL:https://business.shelbychamber.org/events/details/alabama-women-in-business-02-26-2013-4507
END:VEVENT

END:VCALENDAR
