BEGIN:VCALENDAR
VERSION:2.0
PRODID:-//ChamberMaster//Event Calendar 2.0//EN
METHOD:PUBLISH
X-PUBLISHED-TTL:P3D
REFRESH-INTERVAL:P3D
CALSCALE:GREGORIAN
BEGIN:VEVENT
DTSTART:20130625T163000Z
DTEND:20130625T180000Z
X-MICROSOFT-CDO-ALLDAYEVENT:FALSE
SUMMARY:Alabama Women In Business
DESCRIPTION:Luncheon meeting 11:30 - 1PM. Guest speaker will be Lieutenant Governor Kay Ivey.
X-ALT-DESC;FMTTYPE=text/html:Luncheon meeting 11:30 - 1PM. Guest speaker will be Lieutenant Governor Kay Ivey.
LOCATION:The Club\, Vulcan Room - State Level\, 1 Robert S. Smith Drive\, Birmingham\, AL 35209
UID:e.145.4629
SEQUENCE:3
DTSTAMP:20260424T103011Z
URL:https://business.shelbychamber.org/events/details/alabama-women-in-business-06-25-2013-4629
END:VEVENT

END:VCALENDAR
