BEGIN:VCALENDAR
VERSION:2.0
PRODID:-//ChamberMaster//Event Calendar 2.0//EN
METHOD:PUBLISH
X-PUBLISHED-TTL:P3D
REFRESH-INTERVAL:P3D
CALSCALE:GREGORIAN
BEGIN:VEVENT
DTSTART:20130723T163000Z
DTEND:20130723T180000Z
X-MICROSOFT-CDO-ALLDAYEVENT:FALSE
SUMMARY:Alabama Women In Business
DESCRIPTION:Luncheon meeting - Guest speaker Annette Springer\, CEO of Springer Equipment Company will discuss "Does Your Business Need A Lift?"
X-ALT-DESC;FMTTYPE=text/html:Luncheon meeting - Guest speaker Annette Springer\, CEO of Springer Equipment Company will discuss &quot\;Does Your Business Need A Lift?&quot\;
LOCATION:The Club\, Vulcan Room - State Level\, 1 Robert S. Smith Drive\, Birmingham\, AL 35209
UID:e.145.4669
SEQUENCE:3
DTSTAMP:20260424T085741Z
URL:https://business.shelbychamber.org/events/details/alabama-women-in-business-07-23-2013-4669
END:VEVENT

END:VCALENDAR
