BEGIN:VCALENDAR
VERSION:2.0
PRODID:-//ChamberMaster//Event Calendar 2.0//EN
METHOD:PUBLISH
X-PUBLISHED-TTL:P3D
REFRESH-INTERVAL:P3D
CALSCALE:GREGORIAN
BEGIN:VEVENT
DTSTART:20160426T163000Z
DTEND:20160426T180000Z
X-MICROSOFT-CDO-ALLDAYEVENT:FALSE
SUMMARY:Alabama Women in Business - April Business / Networking Luncheon
DESCRIPTION:Guest speaker Pam Dorr\, Executive Director of the Hale Empowerment & Revitalization Organization (HERO) and Habitat for Humanity\, Hale County\, Inc. will discuss "Creating Social Change Through Small Business Development". This is a great opportunity to meet and network with fellow women business leaders in our community.
X-ALT-DESC;FMTTYPE=text/html:Guest speaker Pam Dorr\, Executive Director of the Hale Empowerment &amp\; Revitalization Organization (HERO) and Habitat for Humanity\, Hale County\, Inc. will discuss &quot\;Creating Social Change Through Small Business Development&quot\;. This is a great opportunity to meet and network with fellow women business leaders in our community.
LOCATION:The Club 1 Robert Smith Drive Birmingham\, AL 35201
UID:e.145.9480
SEQUENCE:3
DTSTAMP:20260422T063659Z
URL:https://business.shelbychamber.org/events/details/alabama-women-in-business-april-business-networking-luncheon-04-26-2016-9480
END:VEVENT

END:VCALENDAR
