BEGIN:VCALENDAR
VERSION:2.0
PRODID:-//ChamberMaster//Event Calendar 2.0//EN
METHOD:PUBLISH
X-PUBLISHED-TTL:P3D
REFRESH-INTERVAL:P3D
CALSCALE:GREGORIAN
BEGIN:VEVENT
DTSTART:20130827T163000Z
DTEND:20130827T180000Z
X-MICROSOFT-CDO-ALLDAYEVENT:FALSE
SUMMARY:Alabama Women In Business - Business Luncheon
DESCRIPTION:Alabama Women in Business August Luncheon - Guest speaker will be Lesley McClure\, Vice President and Regional Executive of the Federal Reserve Bank of Atlanta.
X-ALT-DESC;FMTTYPE=text/html:Alabama Women in Business August Luncheon - Guest speaker will be Lesley McClure\, Vice President and Regional Executive of the Federal Reserve Bank of Atlanta.&nbsp\;
LOCATION:The Club - Glen Iris 1 - State Level\, 1 Robert S. Smith Drive\, Birmingham\, AL 35209
UID:e.145.4704
SEQUENCE:3
DTSTAMP:20260424T065948Z
URL:https://business.shelbychamber.org/events/details/alabama-women-in-business-business-luncheon-08-27-2013-4704
END:VEVENT

END:VCALENDAR
