BEGIN:VCALENDAR
VERSION:2.0
PRODID:-//ChamberMaster//Event Calendar 2.0//EN
METHOD:PUBLISH
X-PUBLISHED-TTL:P3D
REFRESH-INTERVAL:P3D
CALSCALE:GREGORIAN
BEGIN:VEVENT
DTSTART:20140818T223000Z
DTEND:20140819T040000Z
X-MICROSOFT-CDO-ALLDAYEVENT:FALSE
SUMMARY:Alabama Women in Business - Evening Social/Networking Party
DESCRIPTION:Join AWIB at Regions Field for an evening of networking and socializing as we watch the Birmingham Barons play the Chattanooga Lookouts. Food and drinks will be served on the Party Patio. This event is open to spouses\, friends and other guests. Event will start at 5:30PM. The game starts at 7:05PM. Be sure to visit our website for info and reservations at www.alwib.org.
X-ALT-DESC;FMTTYPE=text/html:Join AWIB at Regions Field for an evening of networking and socializing as we watch the Birmingham Barons play the Chattanooga Lookouts. Food and drinks will be served on the Party Patio. This event is open to spouses\, friends and other guests. Event will start at 5:30PM. The game starts at 7:05PM. Be sure to visit our website for info and reservations at www.alwib.org.
LOCATION:Regions Field 1401 1st Avenue S. Birmingham\, AL 35233
UID:e.145.5795
SEQUENCE:3
DTSTAMP:20260423T121459Z
URL:https://business.shelbychamber.org/events/details/alabama-women-in-business-evening-social-networking-party-08-18-2014-5795
END:VEVENT

END:VCALENDAR
