BEGIN:VCALENDAR
VERSION:2.0
PRODID:-//ChamberMaster//Event Calendar 2.0//EN
METHOD:PUBLISH
X-PUBLISHED-TTL:P3D
REFRESH-INTERVAL:P3D
CALSCALE:GREGORIAN
BEGIN:VEVENT
DTSTART:20140818T230000Z
DTEND:20140819T040000Z
X-MICROSOFT-CDO-ALLDAYEVENT:FALSE
SUMMARY:Alabama Women in Business - Evening Social/Networking Party
DESCRIPTION:Join AWIB for an evening of networking and socializing while we watch the Birmingham Baron's play the Chattanooga Lookouts. Food and drink will be provided on the Party Patio. Spouses\, friends and other guests are welcome. AWIB members $26\, Guests $30. For info and registration visit www.alwib.org. This is a great opportunity to meet local women business owners.
X-ALT-DESC;FMTTYPE=text/html:Join AWIB for an evening of networking and socializing while we watch the Birmingham Baron&#39\;s play the Chattanooga Lookouts. Food and drink will be provided on the Party Patio. Spouses\, friends and other guests are welcome. AWIB members $26\, Guests $30. For info and registration visit www.alwib.org. This is a great opportunity to meet local women business owners.
LOCATION:Regions Field - Party Patio
UID:e.145.6164
SEQUENCE:3
DTSTAMP:20260423T121305Z
URL:https://business.shelbychamber.org/events/details/alabama-women-in-business-evening-social-networking-party-08-18-2014-6164
END:VEVENT

END:VCALENDAR
