BEGIN:VCALENDAR
VERSION:2.0
PRODID:-//ChamberMaster//Event Calendar 2.0//EN
METHOD:PUBLISH
X-PUBLISHED-TTL:P3D
REFRESH-INTERVAL:P3D
CALSCALE:GREGORIAN
BEGIN:VEVENT
DTSTART:20131022T223000Z
DTEND:20131023T003000Z
X-MICROSOFT-CDO-ALLDAYEVENT:FALSE
SUMMARY:Alabama Women In Business - Fall Networking Social
DESCRIPTION:AWIB - Fall Networking Social - Enjoy an evening of live music by Reunion and storytelling by local storyteller\, Lisa Hicks. Dress in your best halloween attire and you may win a prize. This is a great opportunity to network with women business leaders. For more information and tickets please visit www.alwib.org.
X-ALT-DESC;FMTTYPE=text/html:AWIB - Fall Networking Social - Enjoy an evening of live music by Reunion and storytelling by local storyteller\, Lisa Hicks. Dress in your best halloween attire and you may win a prize. This is a great opportunity to network with women business leaders. For more information and tickets please visit www.alwib.org.
LOCATION:Park Lane 2117 Cahaba Lane Mountain Brook\, Al 35223
UID:e.145.4749
SEQUENCE:3
DTSTAMP:20260424T051726Z
URL:https://business.shelbychamber.org/events/details/alabama-women-in-business-fall-networking-social-10-22-2013-4749
END:VEVENT

END:VCALENDAR
