BEGIN:VCALENDAR
VERSION:2.0
PRODID:-//ChamberMaster//Event Calendar 2.0//EN
METHOD:PUBLISH
X-PUBLISHED-TTL:P3D
REFRESH-INTERVAL:P3D
CALSCALE:GREGORIAN
BEGIN:VEVENT
DTSTART:20141028T230000Z
DTEND:20141029T010000Z
X-MICROSOFT-CDO-ALLDAYEVENT:FALSE
SUMMARY:Alabama Women in Business - Fall Social & Costume Party
DESCRIPTION:Dress in your best Halloween Attire and join AWIB for an evening of fun\, socializing and networking. Enjoy the Birmingham skyline with food and drinks while meeting some of the dynamic women business leaders in Birmingham and the surrounding areas.
X-ALT-DESC;FMTTYPE=text/html:Dress in your best Halloween Attire and join AWIB for an evening of fun\, socializing and networking. Enjoy the Birmingham skyline with food and drinks while meeting some of the dynamic women business leaders in Birmingham and the surrounding areas.
LOCATION:Regency Summit Condo Party Room 1300 Beacon Parkway East Birmingham\, AL 35209
UID:e.145.6197
SEQUENCE:3
DTSTAMP:20260423T092117Z
URL:https://business.shelbychamber.org/events/details/alabama-women-in-business-fall-social-costume-party-10-28-2014-6197
END:VEVENT

END:VCALENDAR
