BEGIN:VCALENDAR
VERSION:2.0
PRODID:-//ChamberMaster//Event Calendar 2.0//EN
METHOD:PUBLISH
X-PUBLISHED-TTL:P3D
REFRESH-INTERVAL:P3D
CALSCALE:GREGORIAN
BEGIN:VEVENT
DTSTART:20160223T173000Z
DTEND:20160223T190000Z
X-MICROSOFT-CDO-ALLDAYEVENT:FALSE
SUMMARY:Alabama Women in Business - February Business / Networking Luncheon
DESCRIPTION:Join us as Gayle Lantz\, leadership expert and founder of WorkMatters\, Inc.\, informs us on Smart Strategies to Grow Your Business More Effectively and Easily. Gayle will bring valuable expertise and unique insights to help you think and work smarter in your business. This is a great opportunity to network and meet other women business owners in Birmingham.
X-ALT-DESC;FMTTYPE=text/html:Join us as Gayle Lantz\, leadership expert and founder of WorkMatters\, Inc.\, informs us on Smart Strategies to Grow Your Business More Effectively and Easily. Gayle will bring valuable expertise and unique insights to help you think and work smarter in your business. This is a great opportunity to network and meet other women business owners in Birmingham.
LOCATION:The Club 1 Robert S. Smith Drive Birmingham\, AL 35209
UID:e.145.8305
SEQUENCE:3
DTSTAMP:20260422T111421Z
URL:https://business.shelbychamber.org/events/details/alabama-women-in-business-february-business-networking-luncheon-02-23-2016-8305
END:VEVENT

END:VCALENDAR
