BEGIN:VCALENDAR
VERSION:2.0
PRODID:-//ChamberMaster//Event Calendar 2.0//EN
METHOD:PUBLISH
X-PUBLISHED-TTL:P3D
REFRESH-INTERVAL:P3D
CALSCALE:GREGORIAN
BEGIN:VEVENT
DTSTART:20150224T173000Z
DTEND:20150224T190000Z
X-MICROSOFT-CDO-ALLDAYEVENT:FALSE
SUMMARY:Alabama Women in Business - February Business / Networking Luncheon
DESCRIPTION:Join AWIB as Ginger Aarons and Claire Davis of Birmingham Business Journal will present "Five Things You Need to Know about Social Media". If you are a business owner you will not want to miss this presentation. This is a great opportunity to meet and network with some of the leading women business owners in Birmingham. For reservations and info\, please visit our website www.alwib.org.
X-ALT-DESC;FMTTYPE=text/html:Join AWIB as Ginger Aarons and Claire Davis of Birmingham Business Journal will present &quot\;Five Things You Need to Know about Social Media&quot\;. If you are a business owner you will not want to miss this presentation. This is a great opportunity to meet and network with some of the leading women business owners in Birmingham. For reservations and info\, please visit our website www.alwib.org.
LOCATION:The Club 1 Robert S. Smith Drive Birmingham\, AL 5209
UID:e.145.7330
SEQUENCE:3
DTSTAMP:20260423T034951Z
URL:https://business.shelbychamber.org/events/details/alabama-women-in-business-february-business-networking-luncheon-02-24-2015-7330
END:VEVENT

END:VCALENDAR
