BEGIN:VCALENDAR
VERSION:2.0
PRODID:-//ChamberMaster//Event Calendar 2.0//EN
METHOD:PUBLISH
X-PUBLISHED-TTL:P3D
REFRESH-INTERVAL:P3D
CALSCALE:GREGORIAN
BEGIN:VEVENT
DTSTART:20140225T173000Z
DTEND:20140225T190000Z
X-MICROSOFT-CDO-ALLDAYEVENT:FALSE
SUMMARY:Alabama Women in Business - February Business / Networking Luncheon
DESCRIPTION:Guest speaker will be Kate Cotton\, Executive Director of Protective Life Foundation
X-ALT-DESC;FMTTYPE=text/html:Guest speaker will be Kate Cotton\, Executive Director of Protective Life Foundation
LOCATION:The Club 1 Robert S. Smith Drive Birmingham\, AL 35209
UID:e.145.5041
SEQUENCE:3
DTSTAMP:20260423T213527Z
URL:https://business.shelbychamber.org/events/details/alabama-women-in-business-february-business-networking-luncheon-02-25-2014-5041
END:VEVENT

END:VCALENDAR
