BEGIN:VCALENDAR
VERSION:2.0
PRODID:-//ChamberMaster//Event Calendar 2.0//EN
METHOD:PUBLISH
X-PUBLISHED-TTL:P3D
REFRESH-INTERVAL:P3D
CALSCALE:GREGORIAN
BEGIN:VEVENT
DTSTART:20130122T173000Z
DTEND:20130122T190000Z
X-MICROSOFT-CDO-ALLDAYEVENT:FALSE
SUMMARY:Alabama Women In Business - How Healthcare Laws will Affect Business Owners
DESCRIPTION:Luncheon meeting - Joan Ragsdale of MedManagement\, LLC will discuss how the healthcare laws will affect business owners. AWIB members free\, guest $30. For info and reservations: www.alwib.org.
X-ALT-DESC;FMTTYPE=text/html:<p class="MsoNormal">\n	Luncheon meeting - Joan Ragsdale of MedManagement\, LLC will discuss how the healthcare laws will affect business owners. AWIB members free\, guest $30. For info and reservations: <a href="http://www.alwib.org">www.alwib.org</a>.</p>\n
LOCATION:The Club\, 1 Robert S. Smith Drive
UID:e.145.4451
SEQUENCE:3
DTSTAMP:20260424T184650Z
URL:https://business.shelbychamber.org/events/details/alabama-women-in-business-how-healthcare-laws-will-affect-business-owners-01-22-2013-4451
END:VEVENT

END:VCALENDAR
