BEGIN:VCALENDAR
VERSION:2.0
PRODID:-//ChamberMaster//Event Calendar 2.0//EN
METHOD:PUBLISH
X-PUBLISHED-TTL:P3D
REFRESH-INTERVAL:P3D
CALSCALE:GREGORIAN
BEGIN:VEVENT
DTSTART:20150127T173000Z
DTEND:20150127T190000Z
X-MICROSOFT-CDO-ALLDAYEVENT:FALSE
SUMMARY:Alabama Women in Business - January Business / Networking Luncheon
DESCRIPTION:AWIB 2015 Kick-Off Luncheon - Join us as we keep it REAL for our upcoming year which will focus on relationship building\, upcoming exciting events\, meeting aspiring women and learning and leading. This is a women's business owner organization that focuses on programs and events for women helping women in business.
X-ALT-DESC;FMTTYPE=text/html:AWIB 2015 Kick-Off Luncheon - Join us as we keep it REAL for our upcoming year which will focus on relationship building\, upcoming exciting events\, meeting aspiring women and learning and leading. This is a women&#39\;s business owner organization that focuses on programs and events for women helping women in business.
LOCATION:The Club 1 Robert S. Smith Drive Birmingham\, AL 35209
UID:e.145.6654
SEQUENCE:3
DTSTAMP:20260423T063533Z
URL:https://business.shelbychamber.org/events/details/alabama-women-in-business-january-business-networking-luncheon-01-27-2015-6654
END:VEVENT

END:VCALENDAR
