BEGIN:VCALENDAR
VERSION:2.0
PRODID:-//ChamberMaster//Event Calendar 2.0//EN
METHOD:PUBLISH
X-PUBLISHED-TTL:P3D
REFRESH-INTERVAL:P3D
CALSCALE:GREGORIAN
BEGIN:VEVENT
DTSTART:20140128T173000Z
DTEND:20140128T190000Z
X-MICROSOFT-CDO-ALLDAYEVENT:FALSE
SUMMARY:Alabama Women In Business - January Luncheon - Networking
DESCRIPTION:Guest Speaker Jessica Drennan discuss finding Creative Solutions to Complex Family Cases: Partnering with a family law attorney to reach your goals. For info and reservations: www.alwib.org
X-ALT-DESC;FMTTYPE=text/html:Guest Speaker Jessica Drennan discuss finding Creative Solutions to Complex Family Cases: Partnering with a family law attorney to reach your goals. For info and reservations: www.alwib.org
LOCATION:The Club 1 Robert S. Smith Drive Birmingham\, AL 35209
UID:e.145.5008
SEQUENCE:3
DTSTAMP:20260423T230534Z
URL:https://business.shelbychamber.org/events/details/alabama-women-in-business-january-luncheon-networking-01-28-2014-5008
END:VEVENT

END:VCALENDAR
