BEGIN:VCALENDAR
VERSION:2.0
PRODID:-//ChamberMaster//Event Calendar 2.0//EN
METHOD:PUBLISH
X-PUBLISHED-TTL:P3D
REFRESH-INTERVAL:P3D
CALSCALE:GREGORIAN
BEGIN:VEVENT
DTSTART:20140722T163000Z
DTEND:20140722T180000Z
X-MICROSOFT-CDO-ALLDAYEVENT:FALSE
SUMMARY:Alabama Women in Business - July Business / Networking Luncheon Networking
DESCRIPTION:Join AWIB as guest speaker Dr. Sarah Parcak will discuss "How Do We Protect History in the 21st Century.
X-ALT-DESC;FMTTYPE=text/html:Join AWIB as guest speaker Dr. Sarah Parcak will discuss &quot\;How Do We Protect History in the 21st Century.
LOCATION:The Club 1 Robert S. Smith Drive Birmingham\, AL 35209
UID:e.145.5787
SEQUENCE:3
DTSTAMP:20260423T151740Z
URL:https://business.shelbychamber.org/events/details/alabama-women-in-business-july-business-networking-luncheon-networking-07-22-2014-5787
END:VEVENT

END:VCALENDAR
