BEGIN:VCALENDAR
VERSION:2.0
PRODID:-//ChamberMaster//Event Calendar 2.0//EN
METHOD:PUBLISH
X-PUBLISHED-TTL:P3D
REFRESH-INTERVAL:P3D
CALSCALE:GREGORIAN
BEGIN:VEVENT
DTSTART:20160628T163000Z
DTEND:20160628T180000Z
X-MICROSOFT-CDO-ALLDAYEVENT:FALSE
SUMMARY:Alabama Women in Business - June 28th Business/Networking Luncheon
DESCRIPTION:Guest speaker Javacia Harris Bowser will discuss "The Benefits of Blogging to Build Your Brand & Business. Javacia is founder and president of See Jane Write\, an award-winning membership organization and website for women who write and blog. She will focus on the three C's of blogging - clarity\, content and community. For information and reservations visit www.alwib.org
X-ALT-DESC;FMTTYPE=text/html:Guest speaker Javacia Harris Bowser will discuss &quot\;The Benefits of Blogging to Build Your Brand &amp\; Business. Javacia is founder and president of See Jane Write\, an award-winning membership organization and website for women who write and blog. She will focus on the three C&#39\;s of blogging - clarity\, content and community. For information and reservations visit www.alwib.org
LOCATION:The Club 1 Robert S. Smith Drive Birmingham\, AL 35201
UID:e.145.9589
SEQUENCE:3
DTSTAMP:20260422T030744Z
URL:https://business.shelbychamber.org/events/details/alabama-women-in-business-june-28th-business-networking-luncheon-06-28-2016-9589
END:VEVENT

END:VCALENDAR
