BEGIN:VCALENDAR
VERSION:2.0
PRODID:-//ChamberMaster//Event Calendar 2.0//EN
METHOD:PUBLISH
X-PUBLISHED-TTL:P3D
REFRESH-INTERVAL:P3D
CALSCALE:GREGORIAN
BEGIN:VEVENT
DTSTART:20160724T190000Z
DTEND:20160724T220000Z
X-MICROSOFT-CDO-ALLDAYEVENT:FALSE
SUMMARY:Alabama Women in Business - Let's Get Connected Event
DESCRIPTION:AWIB - Let's Get Connected Event - Join us and see why so many women are a part of Alabama Women in Business. This is a great opportunity to meet and network with fellow women business owners and leaders in Jefferson County. Tickets include food\, drink and ticket to watch the Barons play the Montgomery Biscuits all while under a shaded party patio. This event is open to guests and children so make plans to join us Sunday for some fun and socializing.
X-ALT-DESC;FMTTYPE=text/html:AWIB - Let&#39\;s Get Connected Event - Join us and see why so many women are a part of Alabama Women in Business. This is a great opportunity to meet and network with fellow women business owners and leaders in Jefferson County. Tickets include food\, drink and ticket to watch the Barons play the Montgomery Biscuits all while under a shaded party patio. This event is open to guests and children so make plans to join us Sunday for some fun and socializing.
LOCATION:Regions Field 1401 1st Avenue South Birmingham\, AL 35233
UID:e.145.9645
SEQUENCE:3
DTSTAMP:20260422T013210Z
URL:https://business.shelbychamber.org/events/details/alabama-women-in-business-let-s-get-connected-event-07-24-2016-9645
END:VEVENT

END:VCALENDAR
