BEGIN:VCALENDAR
VERSION:2.0
PRODID:-//ChamberMaster//Event Calendar 2.0//EN
METHOD:PUBLISH
X-PUBLISHED-TTL:P3D
REFRESH-INTERVAL:P3D
CALSCALE:GREGORIAN
BEGIN:VEVENT
DTSTART:20130423T163000Z
DTEND:20130423T213000Z
X-MICROSOFT-CDO-ALLDAYEVENT:FALSE
SUMMARY:Alabama Women In Business - Luncheon/Business Workshop Meeting
DESCRIPTION:Alabama Women in Business   Luncheon/Business Development Workshop Tuesday\, April 23rd\, at Balch and Bingham 1901 6th Avenue North\, Suite 1500\, Birmingham\, AL 35203. Mo Bunnell of Bunnell Idea Group will present "Creating Demand   learn how you can create more demand for your services and products". Luncheon will be from 11:30-1:00PM Members Free\, Guests $30.00. Workshop and Luncheon 11:30-4:30PM Members $69.00\, Guests $89.00 For information and reservations: www.alwib.org
X-ALT-DESC;FMTTYPE=text/html:<p class="MsoNormal">\n	<span style="font-family:&quot\;Bookman Old Style&quot\;\,&quot\;serif&quot\;\;\ncolor:black">Alabama Women in Business &ndash\; Luncheon/Business Development Workshop Tuesday\, April 23rd\, at Balch and Bingham 1901 6<sup>th</sup> Avenue North\, Suite 1500\, Birmingham\, AL 35203. Mo Bunnell of Bunnell Idea Group will present &ldquo\;<b>Creating Demand &ndash\; learn how you can create more demand for your services and products&rdquo\;.</b> Luncheon will be from 11:30-1:00PM Members Free\, Guests $30.00. Workshop and Luncheon 11:30-4:30PM Members $69.00\, Guests $89.00 For information and reservations: <a href="http://www.alwib.org" target="_blank"><span style="color:blue">www.alwib.org</span></a></span><span style="font-family:\n&quot\;Verdana&quot\;\,&quot\;sans-serif&quot\;\;color:black"><o:p></o:p></span></p>\n
LOCATION:Balch & Bingham 1901 6th Avenue North\, Suite 1500 Birmingham\, AL 35203
UID:e.145.4570
SEQUENCE:3
DTSTAMP:20260424T135140Z
URL:https://business.shelbychamber.org/events/details/alabama-women-in-business-luncheon-business-workshop-meeting-04-23-2013-4570
END:VEVENT

END:VCALENDAR
