BEGIN:VCALENDAR
VERSION:2.0
PRODID:-//ChamberMaster//Event Calendar 2.0//EN
METHOD:PUBLISH
X-PUBLISHED-TTL:P3D
REFRESH-INTERVAL:P3D
CALSCALE:GREGORIAN
BEGIN:VEVENT
DTSTART:20130326T163000Z
DTEND:20130326T180000Z
X-MICROSOFT-CDO-ALLDAYEVENT:FALSE
SUMMARY:Alabama Women In Business - Luncheon Meeting
DESCRIPTION:Luncheon Meeting - Cindy Martin of the Alabama Media Group will discuss "Going Digital: The Merging of Print and Online News".  AWIB members Free\, Guests - $30.00. For info and reservations: www.alwib.org.
X-ALT-DESC;FMTTYPE=text/html:Luncheon Meeting - Cindy Martin of the Alabama Media Group will discuss &quot\;Going Digital: The Merging of Print and Online News&quot\;. &nbsp\;AWIB members Free\, Guests - $30.00. For info and reservations: www.alwib.org.&nbsp\;
LOCATION:The Club\, Vulcan Room - State Level\, 1 Robert S. Smith Drive\, Birmingham\, AL 35209
UID:e.145.4550
SEQUENCE:3
DTSTAMP:20260424T160331Z
URL:https://business.shelbychamber.org/events/details/alabama-women-in-business-luncheon-meeting-03-26-2013-4550
END:VEVENT

END:VCALENDAR
