BEGIN:VCALENDAR
VERSION:2.0
PRODID:-//ChamberMaster//Event Calendar 2.0//EN
METHOD:PUBLISH
X-PUBLISHED-TTL:P3D
REFRESH-INTERVAL:P3D
CALSCALE:GREGORIAN
BEGIN:VEVENT
DTSTART:20130924T163000Z
DTEND:20130924T180000Z
X-MICROSOFT-CDO-ALLDAYEVENT:FALSE
SUMMARY:Alabama Women In Business - Luncheon Meeting
DESCRIPTION:Alabama Women In Business - Luncheon/Networking meeting. Guest speaker will be Judge Helen Shores Lee\, Circuit Judge of the Tenth Judicial Court of Alabama.
X-ALT-DESC;FMTTYPE=text/html:Alabama Women In Business - Luncheon/Networking meeting. Guest speaker will be Judge Helen Shores Lee\, Circuit Judge of the Tenth Judicial Court of Alabama.&nbsp\;
LOCATION:The Club\, Glen Iris 1 - State Level\, 1 Robert Smith Drive\, Birmingham\, AL 35209
UID:e.145.4723
SEQUENCE:3
DTSTAMP:20260424T051848Z
URL:https://business.shelbychamber.org/events/details/alabama-women-in-business-luncheon-meeting-09-24-2013-4723
END:VEVENT

END:VCALENDAR
