BEGIN:VCALENDAR
VERSION:2.0
PRODID:-//ChamberMaster//Event Calendar 2.0//EN
METHOD:PUBLISH
X-PUBLISHED-TTL:P3D
REFRESH-INTERVAL:P3D
CALSCALE:GREGORIAN
BEGIN:VEVENT
DTSTART:20150324T163000Z
DTEND:20150324T180000Z
X-MICROSOFT-CDO-ALLDAYEVENT:FALSE
SUMMARY:Alabama Women In Business - March Business / Networking Luncheon
DESCRIPTION:"Simplify Your Life to Create More time in Your Day! Guest speaker will be Lisa Phillips of Simple Works as she shares tips on what we can do differently today that will bring us better results with our job\, family\, personal mental health and that will give us more time. AWIB members - free\, Guests - $30. For info and reservations visit www.alwib.org.
X-ALT-DESC;FMTTYPE=text/html:&quot\;Simplify Your Life to Create More time in Your Day! Guest speaker will be Lisa Phillips of Simple Works as she shares tips on what we can do differently today that will bring us better results with our job\, family\, personal mental health and that will give us more time. AWIB members - free\, Guests - $30. For info and reservations visit www.alwib.org.
LOCATION:The Club 1 Robert S. Smith Drive Birmingham\, AL 35209
UID:e.145.7593
SEQUENCE:3
DTSTAMP:20260423T022702Z
URL:https://business.shelbychamber.org/events/details/alabama-women-in-business-march-business-networking-luncheon-03-24-2015-7593
END:VEVENT

END:VCALENDAR
