BEGIN:VCALENDAR
VERSION:2.0
PRODID:-//ChamberMaster//Event Calendar 2.0//EN
METHOD:PUBLISH
X-PUBLISHED-TTL:P3D
REFRESH-INTERVAL:P3D
CALSCALE:GREGORIAN
BEGIN:VEVENT
DTSTART:20140325T163000Z
DTEND:20140325T180000Z
X-MICROSOFT-CDO-ALLDAYEVENT:FALSE
SUMMARY:Alabama Women In Business - March Business/Networking Luncheon
DESCRIPTION:Guest speaker will be Jessica Drennan\, founder of Kirk Drennan\, P.C. and author of Divorce in Alabama: The Legal Process\, Your Rights and What to Expect. Jessica will discuss the 5 D's of small business: Death\, Disagreement\, Debt\, Divorce and Disability. For info and reservations visit www.alwib.org.
X-ALT-DESC;FMTTYPE=text/html:Guest speaker will be Jessica Drennan\, founder of Kirk Drennan\, P.C. and author of Divorce in Alabama: The Legal Process\, Your Rights and What to Expect. Jessica will discuss the 5 D&#39\;s of small business: Death\, Disagreement\, Debt\, Divorce and Disability. For info and reservations visit www.alwib.org.
LOCATION:Harbert Center 2019 4th Avenue N. #100 Birmingham\, AL 35203
UID:e.145.5099
SEQUENCE:3
DTSTAMP:20260423T213527Z
URL:https://business.shelbychamber.org/events/details/alabama-women-in-business-march-business-networking-luncheon-03-25-2014-5099
END:VEVENT

END:VCALENDAR
