BEGIN:VCALENDAR
VERSION:2.0
PRODID:-//ChamberMaster//Event Calendar 2.0//EN
METHOD:PUBLISH
X-PUBLISHED-TTL:P3D
REFRESH-INTERVAL:P3D
CALSCALE:GREGORIAN
BEGIN:VEVENT
DTSTART:20140527T163000Z
DTEND:20140527T180000Z
X-MICROSOFT-CDO-ALLDAYEVENT:FALSE
SUMMARY:Alabama Women In Business - May Business/Networking Luncheon
DESCRIPTION:Guest speaker Laura Hinton will share her personal journey of surviving breast cancer. Laura is an advisor with Bridgeworth Financial.
X-ALT-DESC;FMTTYPE=text/html:Guest speaker Laura Hinton will share her personal journey of surviving breast cancer. Laura is an advisor with Bridgeworth Financial.
LOCATION:The Club 1 Robert S. Smith Drive Birmingham\, AL 35209
UID:e.145.5499
SEQUENCE:3
DTSTAMP:20260423T165626Z
URL:https://business.shelbychamber.org/events/details/alabama-women-in-business-may-business-networking-luncheon-05-27-2014-5499
END:VEVENT

END:VCALENDAR
