BEGIN:VCALENDAR
VERSION:2.0
PRODID:-//ChamberMaster//Event Calendar 2.0//EN
METHOD:PUBLISH
X-PUBLISHED-TTL:P3D
REFRESH-INTERVAL:P3D
CALSCALE:GREGORIAN
BEGIN:VEVENT
DTSTART:20160524T163000Z
DTEND:20160524T180000Z
X-MICROSOFT-CDO-ALLDAYEVENT:FALSE
SUMMARY:Alabama Women in Business - May Networking/Business Luncheon
DESCRIPTION:Guest speaker Drew Ann Long will discuss her journey to develop the first patented special needs shopping cart called "Caroline's Cart" for older children and adults. Today Caroline?s cart is in every state and 4 countries and has impacted thousands of people. This is a must attend event. For registration and info please visit www.alwib.org.
X-ALT-DESC;FMTTYPE=text/html:Guest speaker Drew Ann Long will discuss her journey to develop the first patented special needs shopping cart called &quot\;Caroline&#39\;s Cart&quot\; for older children and adults. Today Caroline?s cart is in every state and 4 countries and has impacted thousands of people. This is a must attend event. For registration and info please visit www.alwib.org.
LOCATION:The Club 1 Robert Smith Drive Birmingham\, AL 35209
UID:e.145.9522
SEQUENCE:3
DTSTAMP:20260422T063659Z
URL:https://business.shelbychamber.org/events/details/alabama-women-in-business-may-networking-business-luncheon-05-24-2016-9522
END:VEVENT

END:VCALENDAR
