BEGIN:VCALENDAR
VERSION:2.0
PRODID:-//ChamberMaster//Event Calendar 2.0//EN
METHOD:PUBLISH
X-PUBLISHED-TTL:P3D
REFRESH-INTERVAL:P3D
CALSCALE:GREGORIAN
BEGIN:VEVENT
DTSTART:20130528T223000Z
DTEND:20130529T000000Z
X-MICROSOFT-CDO-ALLDAYEVENT:FALSE
SUMMARY:Alabama Women in Business - Networking\, Wine Tasting & Show Tunes
DESCRIPTION:Join AWIB Atop the Kress Building (301 19th Street North\, Birmingham\, AL 35203) for an evening of Networking\, Show Tunes & Wine Tasting. Glenny Brock\, Tom Cosby & Brant Beene of Birmingham Landmarks\, Inc. will present a history of Birmingham's Lyric Theatre and updates on their latest project Light Up the Lyric. Members $20\, Guest $30. For tickets and more information visit www.alwib.org.
X-ALT-DESC;FMTTYPE=text/html:Join AWIB Atop the Kress Building (301 19th Street North\, Birmingham\, AL 35203) for an evening of Networking\, Show Tunes &amp\; Wine Tasting. Glenny Brock\, Tom Cosby &amp\; Brant Beene of Birmingham Landmarks\, Inc. will present a history of Birmingham&#39\;s Lyric Theatre and updates on their latest project Light Up the Lyric. Members $20\, Guest $30. For tickets and more information visit www.alwib.org.
LOCATION:Atop Kress Building 301 19th Street North Birmingham\, AL 35203
UID:e.145.4614
SEQUENCE:3
DTSTAMP:20260424T120730Z
URL:https://business.shelbychamber.org/events/details/alabama-women-in-business-networking-wine-tasting-show-tunes-05-28-2013-4614
END:VEVENT

END:VCALENDAR
