BEGIN:VCALENDAR
VERSION:2.0
PRODID:-//ChamberMaster//Event Calendar 2.0//EN
METHOD:PUBLISH
X-PUBLISHED-TTL:P3D
REFRESH-INTERVAL:P3D
CALSCALE:GREGORIAN
BEGIN:VEVENT
DTSTART:20141118T173000Z
DTEND:20141118T190000Z
X-MICROSOFT-CDO-ALLDAYEVENT:FALSE
SUMMARY:Alabama Women in Business - November Business Luncheon
DESCRIPTION:Guest speakers will be Amanda Blake Turner and Carey Blake. They will discuss "The Power of Juice". Amanda and Carey are opening Birmingham's only cold press juice bar. For info and reservations\, please visit www.alwib.org
X-ALT-DESC;FMTTYPE=text/html:Guest speakers will be Amanda Blake Turner and Carey Blake. They will discuss &quot\;The Power of Juice&quot\;. Amanda and Carey are opening Birmingham&#39\;s only cold press juice bar. For info and reservations\, please visit www.alwib.org
LOCATION:The Club 1 Robert S. Smith Drive Birmingham\, AL 35209
UID:e.145.6517
SEQUENCE:3
DTSTAMP:20260423T075924Z
URL:https://business.shelbychamber.org/events/details/alabama-women-in-business-november-business-luncheon-11-18-2014-6517
END:VEVENT

END:VCALENDAR
