BEGIN:VCALENDAR
VERSION:2.0
PRODID:-//ChamberMaster//Event Calendar 2.0//EN
METHOD:PUBLISH
X-PUBLISHED-TTL:P3D
REFRESH-INTERVAL:P3D
CALSCALE:GREGORIAN
BEGIN:VEVENT
DTSTART:20151124T173000Z
DTEND:20151124T190000Z
X-MICROSOFT-CDO-ALLDAYEVENT:FALSE
SUMMARY:Alabama Women In Business - November Business / Networking Luncheon
DESCRIPTION:Join us as Tina White\, CPA\, co-owner and CEO of Brown Heating and Cooling\, discusses how to "Work Smarter With the Help of Your Numbers! Find out why most of your numbers are not on your balance sheet or income statement. This a great opportunity to meet and network with Birmingham's women business owners.
X-ALT-DESC;FMTTYPE=text/html:Join us as Tina White\, CPA\, co-owner and CEO of Brown Heating and Cooling\, discusses how to &quot\;Work Smarter With the Help of Your Numbers! Find out why most of your numbers are not on your balance sheet or income statement. This a great opportunity to meet and network with Birmingham&#39\;s women business owners.
LOCATION:The Club 1 Robert S. Smith Drive Birmingham\, AL 35201
UID:e.145.7965
SEQUENCE:3
DTSTAMP:20260422T142510Z
URL:https://business.shelbychamber.org/events/details/alabama-women-in-business-november-business-networking-luncheon-11-24-2015-7965
END:VEVENT

END:VCALENDAR
