BEGIN:VCALENDAR
VERSION:2.0
PRODID:-//ChamberMaster//Event Calendar 2.0//EN
METHOD:PUBLISH
X-PUBLISHED-TTL:P3D
REFRESH-INTERVAL:P3D
CALSCALE:GREGORIAN
BEGIN:VEVENT
DTSTART:20121113T173000Z
DTEND:20121113T190000Z
X-MICROSOFT-CDO-ALLDAYEVENT:FALSE
SUMMARY:Alabama Women In Business November Luncheon
DESCRIPTION:0\n  0\n  1\n  59\n  340\n  Cook-Blackburn Human Resources\n  2\n  1\n  398\n  14.0\n \n \n  \n \n\n \n  Normal\n  0\n  \n  \n  \n  \n  false\n  false\n  false\n  \n  EN-US\n  JA\n  X-NONE\n  \n   \n   \n   \n   \n   \n   \n   \n   \n   \n   \n  \n  \n   \n   \n   \n   \n   \n   \n   \n   \n   \n   \n   \n  \n\n \n  \n  \n  \n  \n  \n  \n  \n  \n  \n  \n  \n  \n  \n  \n  \n  \n  \n  \n  \n  \n  \n  \n  \n  \n  \n  \n  \n  \n  \n  \n  \n  \n  \n  \n  \n  \n  \n  \n  \n  \n  \n  \n  \n  \n  \n  \n  \n  \n  \n  \n  \n  \n  \n  \n  \n  \n  \n  \n  \n  \n  \n  \n  \n  \n  \n  \n  \n  \n  \n  \n  \n  \n  \n  \n  \n  \n  \n  \n  \n  \n  \n  \n  \n  \n  \n  \n  \n  \n  \n  \n  \n  \n  \n  \n  \n  \n  \n  \n  \n  \n  \n  \n  \n  \n  \n  \n  \n  \n  \n  \n  \n  \n  \n  \n  \n  \n  \n  \n  \n  \n  \n  \n  \n  \n  \n  \n  \n  \n  \n  \n  \n  \n  \n  \n  \n  \n  \n \n\n\n /* Style Definitions */\ntable.MsoNormalTable\n	{mso-style-name:"Table Normal"\;\n	mso-tstyle-rowband-size:0\;\n	mso-tstyle-colband-size:0\;\n	mso-style-noshow:yes\;\n	mso-style-priority:99\;\n	mso-style-parent:""\;\n	mso-padding-alt:0in 5.4pt 0in 5.4pt\;\n	mso-para-margin:0in\;\n	mso-para-margin-bottom:.0001pt\;\n	mso-pagination:widow-orphan\;\n	font-size:12.0pt\;\n	font-family:Cambria\;\n	mso-ascii-font-family:Cambria\;\n	mso-ascii-theme-font:minor-latin\;\n	mso-hansi-font-family:Cambria\;\n	mso-hansi-theme-font:minor-latin\;}\n\n\n\n	ALABAMA WOMEN IN BUSINESS   November Event - Tuesday\, November 13\, 11:30am   1:00pm at The Club\, 1 Robert S. Smith Dr.  Join Alabama Women In Business on Tuesday\, November 13th as Allison Blankenship discusses how to become an influencer by connecting and communicating with impact.  AWIB members Free\, Guests $30.  For info and reservations:  www.alwib.org
X-ALT-DESC;FMTTYPE=text/html:<!--[if gte mso 9]><xml>\n <o:DocumentProperties>\n  <o:Revision>0</o:Revision>\n  <o:TotalTime>0</o:TotalTime>\n  <o:Pages>1</o:Pages>\n  <o:Words>59</o:Words>\n  <o:Characters>340</o:Characters>\n  <o:Company>Cook-Blackburn Human Resources</o:Company>\n  <o:Lines>2</o:Lines>\n  <o:Paragraphs>1</o:Paragraphs>\n  <o:CharactersWithSpaces>398</o:CharactersWithSpaces>\n  <o:Version>14.0</o:Version>\n </o:DocumentProperties>\n <o:OfficeDocumentSettings>\n  <o:AllowPNG/>\n </o:OfficeDocumentSettings>\n</xml><![endif]--><!--[if gte mso 9]><xml>\n <w:WordDocument>\n  <w:View>Normal</w:View>\n  <w:Zoom>0</w:Zoom>\n  <w:TrackMoves/>\n  <w:TrackFormatting/>\n  <w:PunctuationKerning/>\n  <w:ValidateAgainstSchemas/>\n  <w:SaveIfXMLInvalid>false</w:SaveIfXMLInvalid>\n  <w:IgnoreMixedContent>false</w:IgnoreMixedContent>\n  <w:AlwaysShowPlaceholderText>false</w:AlwaysShowPlaceholderText>\n  <w:DoNotPromoteQF/>\n  <w:LidThemeOther>EN-US</w:LidThemeOther>\n  <w:LidThemeAsian>JA</w:LidThemeAsian>\n  <w:LidThemeComplexScript>X-NONE</w:LidThemeComplexScript>\n  <w:Compatibility>\n   <w:BreakWrappedTables/>\n   <w:SnapToGridInCell/>\n   <w:WrapTextWithPunct/>\n   <w:UseAsianBreakRules/>\n   <w:DontGrowAutofit/>\n   <w:SplitPgBreakAndParaMark/>\n   <w:EnableOpenTypeKerning/>\n   <w:DontFlipMirrorIndents/>\n   <w:OverrideTableStyleHps/>\n   <w:UseFELayout/>\n  </w:Compatibility>\n  <m:mathPr>\n   <m:mathFont m:val="Cambria Math"/>\n   <m:brkBin m:val="before"/>\n   <m:brkBinSub m:val="&#45\;-"/>\n   <m:smallFrac m:val="off"/>\n   <m:dispDef/>\n   <m:lMargin m:val="0"/>\n   <m:rMargin m:val="0"/>\n   <m:defJc m:val="centerGroup"/>\n   <m:wrapIndent m:val="1440"/>\n   <m:intLim m:val="subSup"/>\n   <m:naryLim m:val="undOvr"/>\n  </m:mathPr></w:WordDocument>\n</xml><![endif]--><!--[if gte mso 9]><xml>\n <w:LatentStyles DefLockedState="false" DefUnhideWhenUsed="true"\n  DefSemiHidden="true" DefQFormat="false" DefPriority="99"\n  LatentStyleCount="276">\n  <w:LsdException Locked="false" Priority="0" SemiHidden="false"\n   UnhideWhenUsed="false" QFormat="true" Name="Normal"/>\n  <w:LsdException Locked="false" Priority="9" SemiHidden="false"\n   UnhideWhenUsed="false" QFormat="true" Name="heading 1"/>\n  <w:LsdException Locked="false" Priority="9" QFormat="true" Name="heading 2"/>\n  <w:LsdException Locked="false" Priority="9" QFormat="true" Name="heading 3"/>\n  <w:LsdException Locked="false" Priority="9" QFormat="true" Name="heading 4"/>\n  <w:LsdException Locked="false" Priority="9" QFormat="true" Name="heading 5"/>\n  <w:LsdException Locked="false" Priority="9" QFormat="true" Name="heading 6"/>\n  <w:LsdException Locked="false" Priority="9" QFormat="true" Name="heading 7"/>\n  <w:LsdException Locked="false" Priority="9" QFormat="true" Name="heading 8"/>\n  <w:LsdException Locked="false" Priority="9" QFormat="true" Name="heading 9"/>\n  <w:LsdException Locked="false" Priority="39" Name="toc 1"/>\n  <w:LsdException Locked="false" Priority="39" Name="toc 2"/>\n  <w:LsdException Locked="false" Priority="39" Name="toc 3"/>\n  <w:LsdException Locked="false" Priority="39" Name="toc 4"/>\n  <w:LsdException Locked="false" Priority="39" Name="toc 5"/>\n  <w:LsdException Locked="false" Priority="39" Name="toc 6"/>\n  <w:LsdException Locked="false" Priority="39" Name="toc 7"/>\n  <w:LsdException Locked="false" Priority="39" Name="toc 8"/>\n  <w:LsdException Locked="false" Priority="39" Name="toc 9"/>\n  <w:LsdException Locked="false" Priority="35" QFormat="true" Name="caption"/>\n  <w:LsdException Locked="false" Priority="10" SemiHidden="false"\n   UnhideWhenUsed="false" QFormat="true" Name="Title"/>\n  <w:LsdException Locked="false" Priority="1" Name="Default Paragraph Font"/>\n  <w:LsdException Locked="false" Priority="11" SemiHidden="false"\n   UnhideWhenUsed="false" QFormat="true" Name="Subtitle"/>\n  <w:LsdException Locked="false" Priority="0" SemiHidden="false"\n   UnhideWhenUsed="false" QFormat="true" Name="Strong"/>\n  <w:LsdException Locked="false" Priority="20" SemiHidden="false"\n   UnhideWhenUsed="false" QFormat="true" Name="Emphasis"/>\n  <w:LsdException Locked="false" Priority="59" SemiHidden="false"\n   UnhideWhenUsed="false" Name="Table Grid"/>\n  <w:LsdException Locked="false" UnhideWhenUsed="false" Name="Placeholder Text"/>\n  <w:LsdException Locked="false" Priority="1" SemiHidden="false"\n   UnhideWhenUsed="false" QFormat="true" Name="No Spacing"/>\n  <w:LsdException Locked="false" Priority="60" SemiHidden="false"\n   UnhideWhenUsed="false" Name="Light Shading"/>\n  <w:LsdException Locked="false" Priority="61" SemiHidden="false"\n   UnhideWhenUsed="false" Name="Light List"/>\n  <w:LsdException Locked="false" Priority="62" SemiHidden="false"\n   UnhideWhenUsed="false" Name="Light Grid"/>\n  <w:LsdException Locked="false" Priority="63" SemiHidden="false"\n   UnhideWhenUsed="false" Name="Medium Shading 1"/>\n  <w:LsdException Locked="false" Priority="64" SemiHidden="false"\n   UnhideWhenUsed="false" Name="Medium Shading 2"/>\n  <w:LsdException Locked="false" Priority="65" SemiHidden="false"\n   UnhideWhenUsed="false" Name="Medium List 1"/>\n  <w:LsdException Locked="false" Priority="66" SemiHidden="false"\n   UnhideWhenUsed="false" Name="Medium List 2"/>\n  <w:LsdException Locked="false" Priority="67" SemiHidden="false"\n   UnhideWhenUsed="false" Name="Medium Grid 1"/>\n  <w:LsdException Locked="false" Priority="68" SemiHidden="false"\n   UnhideWhenUsed="false" Name="Medium Grid 2"/>\n  <w:LsdException Locked="false" Priority="69" SemiHidden="false"\n   UnhideWhenUsed="false" Name="Medium Grid 3"/>\n  <w:LsdException Locked="false" Priority="70" SemiHidden="false"\n   UnhideWhenUsed="false" Name="Dark List"/>\n  <w:LsdException Locked="false" Priority="71" SemiHidden="false"\n   UnhideWhenUsed="false" Name="Colorful Shading"/>\n  <w:LsdException Locked="false" Priority="72" SemiHidden="false"\n   UnhideWhenUsed="false" Name="Colorful List"/>\n  <w:LsdException Locked="false" Priority="73" SemiHidden="false"\n   UnhideWhenUsed="false" Name="Colorful Grid"/>\n  <w:LsdException Locked="false" Priority="60" SemiHidden="false"\n   UnhideWhenUsed="false" Name="Light Shading Accent 1"/>\n  <w:LsdException Locked="false" Priority="61" SemiHidden="false"\n   UnhideWhenUsed="false" Name="Light List Accent 1"/>\n  <w:LsdException Locked="false" Priority="62" SemiHidden="false"\n   UnhideWhenUsed="false" Name="Light Grid Accent 1"/>\n  <w:LsdException Locked="false" Priority="63" SemiHidden="false"\n   UnhideWhenUsed="false" Name="Medium Shading 1 Accent 1"/>\n  <w:LsdException Locked="false" Priority="64" SemiHidden="false"\n   UnhideWhenUsed="false" Name="Medium Shading 2 Accent 1"/>\n  <w:LsdException Locked="false" Priority="65" SemiHidden="false"\n   UnhideWhenUsed="false" Name="Medium List 1 Accent 1"/>\n  <w:LsdException Locked="false" UnhideWhenUsed="false" Name="Revision"/>\n  <w:LsdException Locked="false" Priority="34" SemiHidden="false"\n   UnhideWhenUsed="false" QFormat="true" Name="List Paragraph"/>\n  <w:LsdException Locked="false" Priority="29" SemiHidden="false"\n   UnhideWhenUsed="false" QFormat="true" Name="Quote"/>\n  <w:LsdException Locked="false" Priority="30" SemiHidden="false"\n   UnhideWhenUsed="false" QFormat="true" Name="Intense Quote"/>\n  <w:LsdException Locked="false" Priority="66" SemiHidden="false"\n   UnhideWhenUsed="false" Name="Medium List 2 Accent 1"/>\n  <w:LsdException Locked="false" Priority="67" SemiHidden="false"\n   UnhideWhenUsed="false" Name="Medium Grid 1 Accent 1"/>\n  <w:LsdException Locked="false" Priority="68" SemiHidden="false"\n   UnhideWhenUsed="false" Name="Medium Grid 2 Accent 1"/>\n  <w:LsdException Locked="false" Priority="69" SemiHidden="false"\n   UnhideWhenUsed="false" Name="Medium Grid 3 Accent 1"/>\n  <w:LsdException Locked="false" Priority="70" SemiHidden="false"\n   UnhideWhenUsed="false" Name="Dark List Accent 1"/>\n  <w:LsdException Locked="false" Priority="71" SemiHidden="false"\n   UnhideWhenUsed="false" Name="Colorful Shading Accent 1"/>\n  <w:LsdException Locked="false" Priority="72" SemiHidden="false"\n   UnhideWhenUsed="false" Name="Colorful List Accent 1"/>\n  <w:LsdException Locked="false" Priority="73" SemiHidden="false"\n   UnhideWhenUsed="false" Name="Colorful Grid Accent 1"/>\n  <w:LsdException Locked="false" Priority="60" SemiHidden="false"\n   UnhideWhenUsed="false" Name="Light Shading Accent 2"/>\n  <w:LsdException Locked="false" Priority="61" SemiHidden="false"\n   UnhideWhenUsed="false" Name="Light List Accent 2"/>\n  <w:LsdException Locked="false" Priority="62" SemiHidden="false"\n   UnhideWhenUsed="false" Name="Light Grid Accent 2"/>\n  <w:LsdException Locked="false" Priority="63" SemiHidden="false"\n   UnhideWhenUsed="false" Name="Medium Shading 1 Accent 2"/>\n  <w:LsdException Locked="false" Priority="64" SemiHidden="false"\n   UnhideWhenUsed="false" Name="Medium Shading 2 Accent 2"/>\n  <w:LsdException Locked="false" Priority="65" SemiHidden="false"\n   UnhideWhenUsed="false" Name="Medium List 1 Accent 2"/>\n  <w:LsdException Locked="false" Priority="66" SemiHidden="false"\n   UnhideWhenUsed="false" Name="Medium List 2 Accent 2"/>\n  <w:LsdException Locked="false" Priority="67" SemiHidden="false"\n   UnhideWhenUsed="false" Name="Medium Grid 1 Accent 2"/>\n  <w:LsdException Locked="false" Priority="68" SemiHidden="false"\n   UnhideWhenUsed="false" Name="Medium Grid 2 Accent 2"/>\n  <w:LsdException Locked="false" Priority="69" SemiHidden="false"\n   UnhideWhenUsed="false" Name="Medium Grid 3 Accent 2"/>\n  <w:LsdException Locked="false" Priority="70" SemiHidden="false"\n   UnhideWhenUsed="false" Name="Dark List Accent 2"/>\n  <w:LsdException Locked="false" Priority="71" SemiHidden="false"\n   UnhideWhenUsed="false" Name="Colorful Shading Accent 2"/>\n  <w:LsdException Locked="false" Priority="72" SemiHidden="false"\n   UnhideWhenUsed="false" Name="Colorful List Accent 2"/>\n  <w:LsdException Locked="false" Priority="73" SemiHidden="false"\n   UnhideWhenUsed="false" Name="Colorful Grid Accent 2"/>\n  <w:LsdException Locked="false" Priority="60" SemiHidden="false"\n   UnhideWhenUsed="false" Name="Light Shading Accent 3"/>\n  <w:LsdException Locked="false" Priority="61" SemiHidden="false"\n   UnhideWhenUsed="false" Name="Light List Accent 3"/>\n  <w:LsdException Locked="false" Priority="62" SemiHidden="false"\n   UnhideWhenUsed="false" Name="Light Grid Accent 3"/>\n  <w:LsdException Locked="false" Priority="63" SemiHidden="false"\n   UnhideWhenUsed="false" Name="Medium Shading 1 Accent 3"/>\n  <w:LsdException Locked="false" Priority="64" SemiHidden="false"\n   UnhideWhenUsed="false" Name="Medium Shading 2 Accent 3"/>\n  <w:LsdException Locked="false" Priority="65" SemiHidden="false"\n   UnhideWhenUsed="false" Name="Medium List 1 Accent 3"/>\n  <w:LsdException Locked="false" Priority="66" SemiHidden="false"\n   UnhideWhenUsed="false" Name="Medium List 2 Accent 3"/>\n  <w:LsdException Locked="false" Priority="67" SemiHidden="false"\n   UnhideWhenUsed="false" Name="Medium Grid 1 Accent 3"/>\n  <w:LsdException Locked="false" Priority="68" SemiHidden="false"\n   UnhideWhenUsed="false" Name="Medium Grid 2 Accent 3"/>\n  <w:LsdException Locked="false" Priority="69" SemiHidden="false"\n   UnhideWhenUsed="false" Name="Medium Grid 3 Accent 3"/>\n  <w:LsdException Locked="false" Priority="70" SemiHidden="false"\n   UnhideWhenUsed="false" Name="Dark List Accent 3"/>\n  <w:LsdException Locked="false" Priority="71" SemiHidden="false"\n   UnhideWhenUsed="false" Name="Colorful Shading Accent 3"/>\n  <w:LsdException Locked="false" Priority="72" SemiHidden="false"\n   UnhideWhenUsed="false" Name="Colorful List Accent 3"/>\n  <w:LsdException Locked="false" Priority="73" SemiHidden="false"\n   UnhideWhenUsed="false" Name="Colorful Grid Accent 3"/>\n  <w:LsdException Locked="false" Priority="60" SemiHidden="false"\n   UnhideWhenUsed="false" Name="Light Shading Accent 4"/>\n  <w:LsdException Locked="false" Priority="61" SemiHidden="false"\n   UnhideWhenUsed="false" Name="Light List Accent 4"/>\n  <w:LsdException Locked="false" Priority="62" SemiHidden="false"\n   UnhideWhenUsed="false" Name="Light Grid Accent 4"/>\n  <w:LsdException Locked="false" Priority="63" SemiHidden="false"\n   UnhideWhenUsed="false" Name="Medium Shading 1 Accent 4"/>\n  <w:LsdException Locked="false" Priority="64" SemiHidden="false"\n   UnhideWhenUsed="false" Name="Medium Shading 2 Accent 4"/>\n  <w:LsdException Locked="false" Priority="65" SemiHidden="false"\n   UnhideWhenUsed="false" Name="Medium List 1 Accent 4"/>\n  <w:LsdException Locked="false" Priority="66" SemiHidden="false"\n   UnhideWhenUsed="false" Name="Medium List 2 Accent 4"/>\n  <w:LsdException Locked="false" Priority="67" SemiHidden="false"\n   UnhideWhenUsed="false" Name="Medium Grid 1 Accent 4"/>\n  <w:LsdException Locked="false" Priority="68" SemiHidden="false"\n   UnhideWhenUsed="false" Name="Medium Grid 2 Accent 4"/>\n  <w:LsdException Locked="false" Priority="69" SemiHidden="false"\n   UnhideWhenUsed="false" Name="Medium Grid 3 Accent 4"/>\n  <w:LsdException Locked="false" Priority="70" SemiHidden="false"\n   UnhideWhenUsed="false" Name="Dark List Accent 4"/>\n  <w:LsdException Locked="false" Priority="71" SemiHidden="false"\n   UnhideWhenUsed="false" Name="Colorful Shading Accent 4"/>\n  <w:LsdException Locked="false" Priority="72" SemiHidden="false"\n   UnhideWhenUsed="false" Name="Colorful List Accent 4"/>\n  <w:LsdException Locked="false" Priority="73" SemiHidden="false"\n   UnhideWhenUsed="false" Name="Colorful Grid Accent 4"/>\n  <w:LsdException Locked="false" Priority="60" SemiHidden="false"\n   UnhideWhenUsed="false" Name="Light Shading Accent 5"/>\n  <w:LsdException Locked="false" Priority="61" SemiHidden="false"\n   UnhideWhenUsed="false" Name="Light List Accent 5"/>\n  <w:LsdException Locked="false" Priority="62" SemiHidden="false"\n   UnhideWhenUsed="false" Name="Light Grid Accent 5"/>\n  <w:LsdException Locked="false" Priority="63" SemiHidden="false"\n   UnhideWhenUsed="false" Name="Medium Shading 1 Accent 5"/>\n  <w:LsdException Locked="false" Priority="64" SemiHidden="false"\n   UnhideWhenUsed="false" Name="Medium Shading 2 Accent 5"/>\n  <w:LsdException Locked="false" Priority="65" SemiHidden="false"\n   UnhideWhenUsed="false" Name="Medium List 1 Accent 5"/>\n  <w:LsdException Locked="false" Priority="66" SemiHidden="false"\n   UnhideWhenUsed="false" Name="Medium List 2 Accent 5"/>\n  <w:LsdException Locked="false" Priority="67" SemiHidden="false"\n   UnhideWhenUsed="false" Name="Medium Grid 1 Accent 5"/>\n  <w:LsdException Locked="false" Priority="68" SemiHidden="false"\n   UnhideWhenUsed="false" Name="Medium Grid 2 Accent 5"/>\n  <w:LsdException Locked="false" Priority="69" SemiHidden="false"\n   UnhideWhenUsed="false" Name="Medium Grid 3 Accent 5"/>\n  <w:LsdException Locked="false" Priority="70" SemiHidden="false"\n   UnhideWhenUsed="false" Name="Dark List Accent 5"/>\n  <w:LsdException Locked="false" Priority="71" SemiHidden="false"\n   UnhideWhenUsed="false" Name="Colorful Shading Accent 5"/>\n  <w:LsdException Locked="false" Priority="72" SemiHidden="false"\n   UnhideWhenUsed="false" Name="Colorful List Accent 5"/>\n  <w:LsdException Locked="false" Priority="73" SemiHidden="false"\n   UnhideWhenUsed="false" Name="Colorful Grid Accent 5"/>\n  <w:LsdException Locked="false" Priority="60" SemiHidden="false"\n   UnhideWhenUsed="false" Name="Light Shading Accent 6"/>\n  <w:LsdException Locked="false" Priority="61" SemiHidden="false"\n   UnhideWhenUsed="false" Name="Light List Accent 6"/>\n  <w:LsdException Locked="false" Priority="62" SemiHidden="false"\n   UnhideWhenUsed="false" Name="Light Grid Accent 6"/>\n  <w:LsdException Locked="false" Priority="63" SemiHidden="false"\n   UnhideWhenUsed="false" Name="Medium Shading 1 Accent 6"/>\n  <w:LsdException Locked="false" Priority="64" SemiHidden="false"\n   UnhideWhenUsed="false" Name="Medium Shading 2 Accent 6"/>\n  <w:LsdException Locked="false" Priority="65" SemiHidden="false"\n   UnhideWhenUsed="false" Name="Medium List 1 Accent 6"/>\n  <w:LsdException Locked="false" Priority="66" SemiHidden="false"\n   UnhideWhenUsed="false" Name="Medium List 2 Accent 6"/>\n  <w:LsdException Locked="false" Priority="67" SemiHidden="false"\n   UnhideWhenUsed="false" Name="Medium Grid 1 Accent 6"/>\n  <w:LsdException Locked="false" Priority="68" SemiHidden="false"\n   UnhideWhenUsed="false" Name="Medium Grid 2 Accent 6"/>\n  <w:LsdException Locked="false" Priority="69" SemiHidden="false"\n   UnhideWhenUsed="false" Name="Medium Grid 3 Accent 6"/>\n  <w:LsdException Locked="false" Priority="70" SemiHidden="false"\n   UnhideWhenUsed="false" Name="Dark List Accent 6"/>\n  <w:LsdException Locked="false" Priority="71" SemiHidden="false"\n   UnhideWhenUsed="false" Name="Colorful Shading Accent 6"/>\n  <w:LsdException Locked="false" Priority="72" SemiHidden="false"\n   UnhideWhenUsed="false" Name="Colorful List Accent 6"/>\n  <w:LsdException Locked="false" Priority="73" SemiHidden="false"\n   UnhideWhenUsed="false" Name="Colorful Grid Accent 6"/>\n  <w:LsdException Locked="false" Priority="19" SemiHidden="false"\n   UnhideWhenUsed="false" QFormat="true" Name="Subtle Emphasis"/>\n  <w:LsdException Locked="false" Priority="21" SemiHidden="false"\n   UnhideWhenUsed="false" QFormat="true" Name="Intense Emphasis"/>\n  <w:LsdException Locked="false" Priority="31" SemiHidden="false"\n   UnhideWhenUsed="false" QFormat="true" Name="Subtle Reference"/>\n  <w:LsdException Locked="false" Priority="32" SemiHidden="false"\n   UnhideWhenUsed="false" QFormat="true" Name="Intense Reference"/>\n  <w:LsdException Locked="false" Priority="33" SemiHidden="false"\n   UnhideWhenUsed="false" QFormat="true" Name="Book Title"/>\n  <w:LsdException Locked="false" Priority="37" Name="Bibliography"/>\n  <w:LsdException Locked="false" Priority="39" QFormat="true" Name="TOC Heading"/>\n </w:LatentStyles>\n</xml><![endif]--><!--[if gte mso 10]>\n<style>\n /* Style Definitions */\ntable.MsoNormalTable\n	{mso-style-name:"Table Normal"\;\n	mso-tstyle-rowband-size:0\;\n	mso-tstyle-colband-size:0\;\n	mso-style-noshow:yes\;\n	mso-style-priority:99\;\n	mso-style-parent:""\;\n	mso-padding-alt:0in 5.4pt 0in 5.4pt\;\n	mso-para-margin:0in\;\n	mso-para-margin-bottom:.0001pt\;\n	mso-pagination:widow-orphan\;\n	font-size:12.0pt\;\n	font-family:Cambria\;\n	mso-ascii-font-family:Cambria\;\n	mso-ascii-theme-font:minor-latin\;\n	mso-hansi-font-family:Cambria\;\n	mso-hansi-theme-font:minor-latin\;}\n</style>\n<![endif]--><!--StartFragment-->\n<p class="MsoNormal" style="margin-bottom:13.0pt\;mso-pagination:none\;mso-layout-grid-align:\nnone\;text-autospace:none">\n	<strong><span style="font-family:Calibri\;mso-bidi-font-family:\n&quot\;Times New Roman&quot\;\;mso-bidi-theme-font:minor-bidi\;color:#3366FF">ALABAMA WOMEN IN BUSINESS &ndash\; November Event - Tuesday\,&nbsp\;November 13\, 11:30am &ndash\; 1:00pm at The Club\, 1 Robert S. Smith Dr</span></strong><b style="mso-bidi-font-weight:\nnormal"><span style="font-family:Calibri\;color:#3366FF">.<span style="mso-spacerun:yes">&nbsp\; </span></span></b><b><span style="font-family:Calibri\;\nmso-bidi-font-family:&quot\;Times New Roman&quot\;\;color:#3366FF">Join Alabama Women In Business on Tuesday\, November 13th as Allison Blankenship discusses how to become an influencer by connecting and communicating with impact.</span></b><strong><span style="font-family:Calibri\;mso-bidi-font-family:&quot\;Times New Roman&quot\;\;mso-bidi-theme-font:\nminor-bidi\;color:#3366FF"><span style="mso-spacerun:yes">&nbsp\; </span>AWIB members Free\, Guests $30.&nbsp\; For info and reservations:<span style="mso-spacerun:yes">&nbsp\; </span></span></strong><a href="http://www.alwib.org/"><span style="font-family:\nCalibri\;color:#3366FF">www.alwib.org</span></a><span class="MsoHyperlink"><span style="font-family:Calibri\;color:#3366FF"><span style="mso-spacerun:yes">&nbsp\;&nbsp\;</span></span></span><span class="MsoHyperlink"><span style="font-family:&quot\;Times New Roman&quot\;\;\ncolor:#3366FF"><o:p></o:p></span></span></p>\n<!--EndFragment-->
LOCATION:The Club
UID:e.145.4427
SEQUENCE:3
DTSTAMP:20260424T220932Z
URL:https://business.shelbychamber.org/events/details/alabama-women-in-business-november-luncheon-11-13-2012-4427
END:VEVENT

END:VCALENDAR
