BEGIN:VCALENDAR
VERSION:2.0
PRODID:-//ChamberMaster//Event Calendar 2.0//EN
METHOD:PUBLISH
X-PUBLISHED-TTL:P3D
REFRESH-INTERVAL:P3D
CALSCALE:GREGORIAN
BEGIN:VEVENT
DTSTART:20131119T173000Z
DTEND:20131119T190000Z
X-MICROSOFT-CDO-ALLDAYEVENT:FALSE
SUMMARY:Alabama Women In Business - November Luncheon - Networking
DESCRIPTION:AWIB is hosting the November Luncheon - Networking. Guest speaker will be Ellyn Grady of United Way of Central Alabama's Resource Development Department. She will discuss working with nonprofits\, promoting volunteerism\, and helping organizations with strategic planning and evaluation.
X-ALT-DESC;FMTTYPE=text/html:AWIB is hosting the November Luncheon - Networking. Guest speaker will be Ellyn Grady of United Way of Central Alabama&#39\;s Resource Development Department. She will discuss working with nonprofits\, promoting volunteerism\, and helping organizations with strategic planning and evaluation.
LOCATION:The Club 1 Robert S. Smith Drive Birmingham\, AL 35209
UID:e.145.4912
SEQUENCE:3
DTSTAMP:20260424T021720Z
URL:https://business.shelbychamber.org/events/details/alabama-women-in-business-november-luncheon-networking-11-19-2013-4912
END:VEVENT

END:VCALENDAR
