BEGIN:VCALENDAR
VERSION:2.0
PRODID:-//ChamberMaster//Event Calendar 2.0//EN
METHOD:PUBLISH
X-PUBLISHED-TTL:P3D
REFRESH-INTERVAL:P3D
CALSCALE:GREGORIAN
BEGIN:VEVENT
DTSTART:20140923T163000Z
DTEND:20140923T180000Z
X-MICROSOFT-CDO-ALLDAYEVENT:FALSE
SUMMARY:Alabama Women in Business - September Business / Networking Luncheon
DESCRIPTION:Guest speaker will be Betsy Bugg Holloway\, Chief Marketing & Professor of Marketing\, Samford University. For more info and reservations\, please visit www.alwib.org.
X-ALT-DESC;FMTTYPE=text/html:Guest speaker will be Betsy Bugg Holloway\, Chief Marketing &amp\; Professor of Marketing\, Samford University. For more info and reservations\, please visit www.alwib.org.
LOCATION:The Club 1 Robert S. Smith Drive Birmingham\, AL 35209
UID:e.145.6196
SEQUENCE:3
DTSTAMP:20260423T104358Z
URL:https://business.shelbychamber.org/events/details/alabama-women-in-business-september-business-networking-luncheon-09-23-2014-6196
END:VEVENT

END:VCALENDAR
