BEGIN:VCALENDAR
VERSION:2.0
PRODID:-//ChamberMaster//Event Calendar 2.0//EN
METHOD:PUBLISH
X-PUBLISHED-TTL:P3D
REFRESH-INTERVAL:P3D
CALSCALE:GREGORIAN
BEGIN:VEVENT
DTSTART:20160927T163000Z
DTEND:20160927T180000Z
X-MICROSOFT-CDO-ALLDAYEVENT:FALSE
SUMMARY:Alabama Women in Business - September Business / Networking Luncheonng Luncheon
DESCRIPTION:Our guest speaker\, Joyce Brooks\, is a motivational speaker and author of three books including "It Ain't Over" and "Self-Inflicted Overload". Work-Life Balance for Today's Professional Woman" is an interactive program designed to assist women in becoming their best. Raising one's awareness of the causes and affects of overload and stress on one's professional and personal life is critical to living a more productive and fulfilling life. Participants will complete an overload self-assessment and be introduced to proven techniques to better manage and balance the daily demands. Participants will walk away with a renewed confidence and the tools to living a more fulfilling life.
X-ALT-DESC;FMTTYPE=text/html:Our guest speaker\, Joyce Brooks\, is a motivational speaker and author of three books including &quot\;It Ain&rsquo\;t Over&quot\; and &quot\;Self-Inflicted Overload&quot\;. Work-Life Balance for Today&rsquo\;s Professional Woman&rdquo\; is an interactive program designed to assist women in becoming their best. Raising one&rsquo\;s awareness of the causes and affects of overload and stress on one&rsquo\;s professional and personal life is critical to living a more productive and fulfilling life. Participants will complete an overload self-assessment and be introduced to proven techniques to better manage and balance the daily demands. Participants will walk away with a renewed confidence and the tools to living a more fulfilling life.
LOCATION:The Club 1 Robert S. Smith Drive Birmingham\, AL 35201
UID:e.145.9749
SEQUENCE:3
DTSTAMP:20260421T184343Z
URL:https://business.shelbychamber.org/events/details/alabama-women-in-business-september-business-networking-luncheonng-luncheon-9749
END:VEVENT

END:VCALENDAR
