BEGIN:VCALENDAR
VERSION:2.0
PRODID:-//ChamberMaster//Event Calendar 2.0//EN
METHOD:PUBLISH
X-PUBLISHED-TTL:P3D
REFRESH-INTERVAL:P3D
CALSCALE:GREGORIAN
BEGIN:VEVENT
DTSTART:20140624T223000Z
DTEND:20140625T000000Z
X-MICROSOFT-CDO-ALLDAYEVENT:FALSE
SUMMARY:Alabama Women in Business - Summer Social Party
DESCRIPTION:Join AWIB members and guests for our Summer Social Party on the rooftop of Kinetic Communications. Food\, drinks and live entertainment with Sherri Hood and her band Reunion will be provided. Great opportunity for networking. For info and reservations visit www.alwib.org.
X-ALT-DESC;FMTTYPE=text/html:Join AWIB members and guests for our Summer Social Party on the rooftop of Kinetic Communications. Food\, drinks and live entertainment with Sherri Hood and her band Reunion will be provided. Great opportunity for networking. For info and reservations visit www.alwib.org.
LOCATION:Kinetic Communications 2025 Morris Avenue Birmingham\, AL 35203
UID:e.145.5514
SEQUENCE:3
DTSTAMP:20260423T151847Z
URL:https://business.shelbychamber.org/events/details/alabama-women-in-business-summer-social-party-06-24-2014-5514
END:VEVENT

END:VCALENDAR
